Workbook

Sheet 19433 Астрономия 5 класс
A1: Часовой пояс | B1: Новосибирск (МСК+4, UTC+7)
A3: Код | B3: ФИО | C3: Набранные баллы | D3: Максимальный балл | E3: ="Время начала сессии (" & VLOOKUP($B$1,TimeZones!$A$1:$C$28,3,FALSE) & ")" -> Время начала сессии (Новосибирск) | F3: ="Время конца сессии (" & VLOOKUP($B$1,TimeZones!$A$1:$C$28,3,FALSE) & ")" -> Время конца сессии (Новосибирск) | G3: Статус | H3: Грамота
A4: 19433/edu540283/5/r7634q8w | B4: Шалагин Роман Михайлович | C4: 47 | D4: 80 | E4: =46290.0571152372 + (VLOOKUP($B$1,TimeZones!$A$1:$C$28,2,FALSE))/24 -> 46290.349 | F4: =46290.0977573736 + (VLOOKUP($B$1,TimeZones!$A$1:$C$28,2,FALSE))/24 -> 46290.389

Sheet 19434 Астрономия 6 класс
A1: Часовой пояс | B1: Новосибирск (МСК+4, UTC+7)
A3: Код | B3: ФИО | C3: Набранные баллы | D3: Максимальный балл | E3: ="Время начала сессии (" & VLOOKUP($B$1,TimeZones!$A$1:$C$28,3,FALSE) & ")" -> Время начала сессии (Новосибирск) | F3: ="Время конца сессии (" & VLOOKUP($B$1,TimeZones!$A$1:$C$28,3,FALSE) & ")" -> Время конца сессии (Новосибирск) | G3: Статус | H3: Грамота
A4: 19434/edu540283/6/r763q6z2 | B4: Шумаков Виктор Андреевич | C4: 55 | D4: 80 | E4: =46290.0424618627 + (VLOOKUP($B$1,TimeZones!$A$1:$C$28,2,FALSE))/24 -> 46290.334 | F4: =46290.0813570362 + (VLOOKUP($B$1,TimeZones!$A$1:$C$28,2,FALSE))/24 -> 46290.373
A5: 19434/edu540283/6/q4674gv9 | B5: Андреева Алёна Павловна | C5: 47 | D5: 80 | E5: =46290.0422206888 + (VLOOKUP($B$1,TimeZones!$A$1:$C$28,2,FALSE))/24 -> 46290.334 | F5: =46290.0687858608 + (VLOOKUP($B$1,TimeZones!$A$1:$C$28,2,FALSE))/24 -> 46290.36
A6: 19434/edu540283/6/35vz36q2 | B6: Банников Алексей Павлович | C6: 45 | D6: 80 | E6: =46290.042170913 + (VLOOKUP($B$1,TimeZones!$A$1:$C$28,2,FALSE))/24 -> 46290.334 | F6: =46290.0685141369 + (VLOOKUP($B$1,TimeZones!$A$1:$C$28,2,FALSE))/24 -> 46290.36
A7: 19434/edu540283/6/w362z565 | B7: Мищенко Роман Денисович | C7: 40 | D7: 80 | E7: =46290.0423310313 + (VLOOKUP($B$1,TimeZones!$A$1:$C$28,2,FALSE))/24 -> 46290.334 | F7: =46290.0802235368 + (VLOOKUP($B$1,TimeZones!$A$1:$C$28,2,FALSE))/24 -> 46290.372
A8: 19434/edu540283/6/5qvw7v47 | B8: живицкий максим сергеевич | C8: 35 | D8: 80 | E8: =46290.0421842259 + (VLOOKUP($B$1,TimeZones!$A$1:$C$28,2,FALSE))/24 -> 46290.334 | F8: =46290.071661014 + (VLOOKUP($B$1,TimeZones!$A$1:$C$28,2,FALSE))/24 -> 46290.363
A9: 19434/edu540283/6/57v9wzvq | B9: Марунченко Дарья Александровна | C9: 33 | D9: 80 | E9: =46290.0423893594 + (VLOOKUP($B$1,TimeZones!$A$1:$C$28,2,FALSE))/24 -> 46290.334 | F9: =46290.0662762824 + (VLOOKUP($B$1,TimeZones!$A$1:$C$28,2,FALSE))/24 -> 46290.358
A10: 19434/edu540283/6/7rv882vq | B10: Лукьянов Лев Евгенивич | C10: 22 | D10: 80 | E10: =46290.0438770756 + (VLOOKUP($B$1,TimeZones!$A$1:$C$28,2,FALSE))/24 -> 46290.336 | F10: =46290.0657377378 + (VLOOKUP($B$1,TimeZones!$A$1:$C$28,2,FALSE))/24 -> 46290.357

Sheet 19435 Астрономия 7 класс
A1: Часовой пояс | B1: Новосибирск (МСК+4, UTC+7)
A3: Код | B3: ФИО | C3: Набранные баллы | D3: Максимальный балл | E3: ="Время начала сессии (" & VLOOKUP($B$1,TimeZones!$A$1:$C$28,3,FALSE) & ")" -> Время начала сессии (Новосибирск) | F3: ="Время конца сессии (" & VLOOKUP($B$1,TimeZones!$A$1:$C$28,3,FALSE) & ")" -> Время конца сессии (Новосибирск) | G3: Статус | H3: Грамота
A4: 19435/edu540283/7/wr8gg78g | B4: Гаспарян Анри Геворгович | C4: 65 | D4: 80 | E4: =46290.0632276737 + (VLOOKUP($B$1,TimeZones!$A$1:$C$28,2,FALSE))/24 -> 46290.355 | F4: =46290.0949365774 + (VLOOKUP($B$1,TimeZones!$A$1:$C$28,2,FALSE))/24 -> 46290.387
A5: 19435/edu540283/7/gr8546vw | B5: Савельев Алексей Павлович | C5: 55 | D5: 80 | E5: =46290.0441886378 + (VLOOKUP($B$1,TimeZones!$A$1:$C$28,2,FALSE))/24 -> 46290.336 | F5: =46290.0858553044 + (VLOOKUP($B$1,TimeZones!$A$1:$C$28,2,FALSE))/24 -> 46290.378
A6: 19435/edu540283/7/q4v776v6 | B6: Ксенофонтова София Ксенофонтовна | C6: 49 | D6: 80 | E6: =46290.4452870816 + (VLOOKUP($B$1,TimeZones!$A$1:$C$28,2,FALSE))/24 -> 46290.737 | F6: =46290.4640081409 + (VLOOKUP($B$1,TimeZones!$A$1:$C$28,2,FALSE))/24 -> 46290.756
A7: 19435/edu540283/7/q4v796v6 | B7: Кузнецова Евгения Владимировна | C7: 47 | D7: 80 | E7: =46290.0503558613 + (VLOOKUP($B$1,TimeZones!$A$1:$C$28,2,FALSE))/24 -> 46290.342 | F7: =46290.0913824853 + (VLOOKUP($B$1,TimeZones!$A$1:$C$28,2,FALSE))/24 -> 46290.383
A8: 19435/edu540283/7/7qvw96vw | B8: Быструшкина Варвара Викторовна | C8: 45 | D8: 80 | E8: =46290.0607311195 + (VLOOKUP($B$1,TimeZones!$A$1:$C$28,2,FALSE))/24 -> 46290.352 | F8: =46290.0959718538 + (VLOOKUP($B$1,TimeZones!$A$1:$C$28,2,FALSE))/24 -> 46290.388
A9: 19435/edu540283/7/23v29586 | B9: Кривопалова Таня Антоновна | C9: 42 | D9: 80 | E9: =46290.0498489512 + (VLOOKUP($B$1,TimeZones!$A$1:$C$28,2,FALSE))/24 -> 46290.342 | F9: =46290.0915156179 + (VLOOKUP($B$1,TimeZones!$A$1:$C$28,2,FALSE))/24 -> 46290.383
A10: 19435/edu540283/7/278r59vg | B10: Елизаров Михаил Геннадьевич | C10: 39 | D10: 80 | E10: =46290.0572988937 + (VLOOKUP($B$1,TimeZones!$A$1:$C$28,2,FALSE))/24 -> 46290.349 | F10: =46290.0773500722 + (VLOOKUP($B$1,TimeZones!$A$1:$C$28,2,FALSE))/24 -> 46290.369
A11: 19435/edu540283/7/358z4386 | B11: Новикова Анна Владимировна | C11: 37 | D11: 80 | E11: =46290.0737303604 + (VLOOKUP($B$1,TimeZones!$A$1:$C$28,2,FALSE))/24 -> 46290.365 | F11: =46290.099599009 + (VLOOKUP($B$1,TimeZones!$A$1:$C$28,2,FALSE))/24 -> 46290.391
A12: 19435/edu540283/7/7qvwr68w | B12: Салитецкий Егор Сергеевич | C12: 37 | D12: 80 | E12: =46290.0522342598 + (VLOOKUP($B$1,TimeZones!$A$1:$C$28,2,FALSE))/24 -> 46290.344 | F12: =46290.091906602 + (VLOOKUP($B$1,TimeZones!$A$1:$C$28,2,FALSE))/24 -> 46290.384
A13: 19435/edu540283/7/q4v7g6v6 | B13: Бондарева Нина Андреевна | C13: 36 | D13: 80 | E13: =46290.07503504 + (VLOOKUP($B$1,TimeZones!$A$1:$C$28,2,FALSE))/24 -> 46290.367 | F13: =46290.1008397249 + (VLOOKUP($B$1,TimeZones!$A$1:$C$28,2,FALSE))/24 -> 46290.393
A14: 19435/edu540283/7/358z3v6w | B14: Добряк Лилия Андреевна | C14: 35 | D14: 80 | E14: =46290.0591608257 + (VLOOKUP($B$1,TimeZones!$A$1:$C$28,2,FALSE))/24 -> 46290.351 | F14: =46290.0978487226 + (VLOOKUP($B$1,TimeZones!$A$1:$C$28,2,FALSE))/24 -> 46290.39
A15: 19435/edu540283/7/w3v4r7v2 | B15: Кальмбах Маргарита Александровна | C15: 34 | D15: 80 | E15: =46290.0582166885 + (VLOOKUP($B$1,TimeZones!$A$1:$C$28,2,FALSE))/24 -> 46290.35 | F15: =46290.0788214689 + (VLOOKUP($B$1,TimeZones!$A$1:$C$28,2,FALSE))/24 -> 46290.37
A16: 19435/edu540283/7/7qvwzr8w | B16: Орел Иван Андреевич | C16: 32 | D16: 80 | E16: =46290.043475648 + (VLOOKUP($B$1,TimeZones!$A$1:$C$28,2,FALSE))/24 -> 46290.335 | F16: =46290.0619486625 + (VLOOKUP($B$1,TimeZones!$A$1:$C$28,2,FALSE))/24 -> 46290.354
A17: 19435/edu540283/7/q4v736v6 | B17: Боровская Ксения Ивановна | C17: 31 | D17: 80 | E17: =46290.0574911716 + (VLOOKUP($B$1,TimeZones!$A$1:$C$28,2,FALSE))/24 -> 46290.349 | F17: =46290.075394935 + (VLOOKUP($B$1,TimeZones!$A$1:$C$28,2,FALSE))/24 -> 46290.367
A18: 19435/edu540283/7/278rg9vg | B18: Калашникова Ульяна Дмитриевна | C18: 26 | D18: 80 | E18: =46290.057260922 + (VLOOKUP($B$1,TimeZones!$A$1:$C$28,2,FALSE))/24 -> 46290.349 | F18: =46290.0754013861 + (VLOOKUP($B$1,TimeZones!$A$1:$C$28,2,FALSE))/24 -> 46290.367
A19: 19435/edu540283/7/7qvwq6vw | B19: Залевская Ксения Александровна | C19: 21 | D19: 80 | E19: =46290.0795524841 + (VLOOKUP($B$1,TimeZones!$A$1:$C$28,2,FALSE))/24 -> 46290.371 | F19: =46290.0982915096 + (VLOOKUP($B$1,TimeZones!$A$1:$C$28,2,FALSE))/24 -> 46290.39

Sheet 19436 Астрономия 8 класс
A1: Часовой пояс | B1: Новосибирск (МСК+4, UTC+7)
A3: Код | B3: ФИО | C3: Набранные баллы | D3: Максимальный балл | E3: ="Время начала сессии (" & VLOOKUP($B$1,TimeZones!$A$1:$C$28,3,FALSE) & ")" -> Время начала сессии (Новосибирск) | F3: ="Время конца сессии (" & VLOOKUP($B$1,TimeZones!$A$1:$C$28,3,FALSE) & ")" -> Время конца сессии (Новосибирск) | G3: Статус | H3: Грамота
A4: 19436/edu540283/8/2qgw876z | B4: Заковряшина Есения Сергеевна | C4: 64 | D4: 80 | E4: =46290.0467761496 + (VLOOKUP($B$1,TimeZones!$A$1:$C$28,2,FALSE))/24 -> 46290.338 | F4: =46290.0884428163 + (VLOOKUP($B$1,TimeZones!$A$1:$C$28,2,FALSE))/24 -> 46290.38
A5: 19436/edu540283/8/27grr9gw | B5: Монастырская Каролина Андреевна | C5: 62 | D5: 80 | E5: =46290.0467837016 + (VLOOKUP($B$1,TimeZones!$A$1:$C$28,2,FALSE))/24 -> 46290.338 | F5: =46290.0881293991 + (VLOOKUP($B$1,TimeZones!$A$1:$C$28,2,FALSE))/24 -> 46290.38
A6: 19436/edu540283/8/27gr5q6w | B6: Бабинчук Алиса Денисовна | C6: 60 | D6: 80 | E6: =46290.0463913854 + (VLOOKUP($B$1,TimeZones!$A$1:$C$28,2,FALSE))/24 -> 46290.338 | F6: =46290.0880580521 + (VLOOKUP($B$1,TimeZones!$A$1:$C$28,2,FALSE))/24 -> 46290.38
A7: 19436/edu540283/8/q4673869 | B7: Айрапетян Нелли Арменовна | C7: 58 | D7: 80 | E7: =46290.0474978722 + (VLOOKUP($B$1,TimeZones!$A$1:$C$28,2,FALSE))/24 -> 46290.339 | F7: =46290.0887769854 + (VLOOKUP($B$1,TimeZones!$A$1:$C$28,2,FALSE))/24 -> 46290.38
A8: 19436/edu540283/8/w36437g8 | B8: Кондратьев Дмитрий Вячеславович | C8: 52 | D8: 80 | E8: =46290.0419372991 + (VLOOKUP($B$1,TimeZones!$A$1:$C$28,2,FALSE))/24 -> 46290.334 | F8: =46290.0697491281 + (VLOOKUP($B$1,TimeZones!$A$1:$C$28,2,FALSE))/24 -> 46290.361
A9: 19436/edu540283/8/q467r8g9 | B9: Баранов Александр Олегович | C9: 49 | D9: 80 | E9: =46290.0418016345 + (VLOOKUP($B$1,TimeZones!$A$1:$C$28,2,FALSE))/24 -> 46290.333 | F9: =46290.0689526735 + (VLOOKUP($B$1,TimeZones!$A$1:$C$28,2,FALSE))/24 -> 46290.361
A10: 19436/edu540283/8/7r6859g4 | B10: Леонович Максим Игоревич | C10: 41 | D10: 80 | E10: =46290.0423755027 + (VLOOKUP($B$1,TimeZones!$A$1:$C$28,2,FALSE))/24 -> 46290.334 | F10: =46290.0688981153 + (VLOOKUP($B$1,TimeZones!$A$1:$C$28,2,FALSE))/24 -> 46290.361

Sheet 19437 Астрономия 9 класс
A1: Часовой пояс | B1: Новосибирск (МСК+4, UTC+7)
A3: Код | B3: ФИО | C3: Набранные баллы | D3: Максимальный балл | E3: ="Время начала сессии (" & VLOOKUP($B$1,TimeZones!$A$1:$C$28,3,FALSE) & ")" -> Время начала сессии (Новосибирск) | F3: ="Время конца сессии (" & VLOOKUP($B$1,TimeZones!$A$1:$C$28,3,FALSE) & ")" -> Время конца сессии (Новосибирск) | G3: Статус | H3: Грамота
A4: 19437/edu540283/9/q4v7qwv3 | B4: Ковалев Артемий Кириллович | C4: 58 | D4: 100 | E4: =46290.0417899547 + (VLOOKUP($B$1,TimeZones!$A$1:$C$28,2,FALSE))/24 -> 46290.333 | F4: =46290.0965425047 + (VLOOKUP($B$1,TimeZones!$A$1:$C$28,2,FALSE))/24 -> 46290.388
A5: 19437/edu540283/9/8r6g47vg | B5: Мерзлый Данил Вадимович | C5: 56 | D5: 100 | E5: =46290.0455603618 + (VLOOKUP($B$1,TimeZones!$A$1:$C$28,2,FALSE))/24 -> 46290.337 | F5: =46290.0969569335 + (VLOOKUP($B$1,TimeZones!$A$1:$C$28,2,FALSE))/24 -> 46290.389
A6: 19437/edu540283/9/276rg9vz | B6: Кравцов Дмитрий Евгеньевич | C6: 54 | D6: 100 | E6: =46290.0418307667 + (VLOOKUP($B$1,TimeZones!$A$1:$C$28,2,FALSE))/24 -> 46290.333 | F6: =46290.0703469706 + (VLOOKUP($B$1,TimeZones!$A$1:$C$28,2,FALSE))/24 -> 46290.362
A7: 19437/edu540283/9/57697z64 | B7: Новикова Дарья Сергеевна | C7: 54 | D7: 100 | E7: =46290.0418714982 + (VLOOKUP($B$1,TimeZones!$A$1:$C$28,2,FALSE))/24 -> 46290.334 | F7: =46290.0958195232 + (VLOOKUP($B$1,TimeZones!$A$1:$C$28,2,FALSE))/24 -> 46290.387
A8: 19437/edu540283/9/gr65ww67 | B8: Савоськина София Денисовна | C8: 52 | D8: 100 | E8: =46290.0418643825 + (VLOOKUP($B$1,TimeZones!$A$1:$C$28,2,FALSE))/24 -> 46290.334 | F8: =46290.0960394393 + (VLOOKUP($B$1,TimeZones!$A$1:$C$28,2,FALSE))/24 -> 46290.388
A9: 19437/edu540283/9/356z8369 | B9: Хамидулина Альбина Раилевна | C9: 52 | D9: 100 | E9: =46290.0429310517 + (VLOOKUP($B$1,TimeZones!$A$1:$C$28,2,FALSE))/24 -> 46290.335 | F9: =46290.0957049413 + (VLOOKUP($B$1,TimeZones!$A$1:$C$28,2,FALSE))/24 -> 46290.387
A10: 19437/edu540283/9/276r5qvz | B10: Пушкарев Арсений Вадимович | C10: 48 | D10: 100 | E10: =46290.0466407246 + (VLOOKUP($B$1,TimeZones!$A$1:$C$28,2,FALSE))/24 -> 46290.338 | F10: =46290.0969168167 + (VLOOKUP($B$1,TimeZones!$A$1:$C$28,2,FALSE))/24 -> 46290.389
A11: 19437/edu540283/9/23v256rw | B11: Бессонов Никита Вячеславович | C11: 43 | D11: 100 | E11: =46290.041918801 + (VLOOKUP($B$1,TimeZones!$A$1:$C$28,2,FALSE))/24 -> 46290.334 | F11: =46290.0962419232 + (VLOOKUP($B$1,TimeZones!$A$1:$C$28,2,FALSE))/24 -> 46290.388
A12: 19437/edu540283/9/276r896z | B12: Юматов Андрей Алексеевич | C12: 41 | D12: 100 | E12: =46290.0417853275 + (VLOOKUP($B$1,TimeZones!$A$1:$C$28,2,FALSE))/24 -> 46290.333 | F12: =46290.0961948701 + (VLOOKUP($B$1,TimeZones!$A$1:$C$28,2,FALSE))/24 -> 46290.388
A13: 19437/edu540283/9/q4v73wv3 | B13: Васильев Георгий Алексеевич | C13: 38 | D13: 100 | E13: =46290.0417334784 + (VLOOKUP($B$1,TimeZones!$A$1:$C$28,2,FALSE))/24 -> 46290.333 | F13: =46290.0962324738 + (VLOOKUP($B$1,TimeZones!$A$1:$C$28,2,FALSE))/24 -> 46290.388
A14: 19437/edu540283/9/7r68zw64 | B14: Шатула Алексей Петрович | C14: 32 | D14: 100 | E14: =46290.04603294 + (VLOOKUP($B$1,TimeZones!$A$1:$C$28,2,FALSE))/24 -> 46290.338 | F14: =46290.0963248508 + (VLOOKUP($B$1,TimeZones!$A$1:$C$28,2,FALSE))/24 -> 46290.388

Sheet 19438 Астрономия 10 класс
A1: Часовой пояс | B1: Новосибирск (МСК+4, UTC+7)
A3: Код | B3: ФИО | C3: Набранные баллы | D3: Максимальный балл | E3: ="Время начала сессии (" & VLOOKUP($B$1,TimeZones!$A$1:$C$28,3,FALSE) & ")" -> Время начала сессии (Новосибирск) | F3: ="Время конца сессии (" & VLOOKUP($B$1,TimeZones!$A$1:$C$28,3,FALSE) & ")" -> Время конца сессии (Новосибирск) | G3: Статус | H3: Грамота
A4: 19438/edu540283/10/27vrz9vz | B4: Сидоренко Александр Яковлевич | C4: 47 | D4: 100 | E4: =46290.0436244766 + (VLOOKUP($B$1,TimeZones!$A$1:$C$28,2,FALSE))/24 -> 46290.335 | F4: =46290.0969152142 + (VLOOKUP($B$1,TimeZones!$A$1:$C$28,2,FALSE))/24 -> 46290.389
A5: 19438/edu540283/10/w3g285g6 | B5: Ибрагимов Владислав Андреевич | C5: 44 | D5: 100 | E5: =46290.0450895649 + (VLOOKUP($B$1,TimeZones!$A$1:$C$28,2,FALSE))/24 -> 46290.337 | F5: =46290.0851420807 + (VLOOKUP($B$1,TimeZones!$A$1:$C$28,2,FALSE))/24 -> 46290.377
A6: 19438/edu540283/10/27vr9gzr | B6: Сажаев Тимофей Алексеевич | C6: 44 | D6: 100 | E6: =46290.0436321481 + (VLOOKUP($B$1,TimeZones!$A$1:$C$28,2,FALSE))/24 -> 46290.335 | F6: =46290.0969090598 + (VLOOKUP($B$1,TimeZones!$A$1:$C$28,2,FALSE))/24 -> 46290.389
A7: 19438/edu540283/10/87v6wzg4 | B7: Радионов Андрей Витальевич | C7: 42 | D7: 100 | E7: =46290.0476305542 + (VLOOKUP($B$1,TimeZones!$A$1:$C$28,2,FALSE))/24 -> 46290.339 | F7: =46290.0805994716 + (VLOOKUP($B$1,TimeZones!$A$1:$C$28,2,FALSE))/24 -> 46290.372
A8: 19438/edu540283/10/wrv548g2 | B8: Вишневский Алексей Андреевич | C8: 36 | D8: 100 | E8: =46290.0436514364 + (VLOOKUP($B$1,TimeZones!$A$1:$C$28,2,FALSE))/24 -> 46290.335 | F8: =46290.0978314232 + (VLOOKUP($B$1,TimeZones!$A$1:$C$28,2,FALSE))/24 -> 46290.389
A9: 19438/edu540283/10/2qvw47g4 | B9: Красногорцев Егор Игоревич | C9: 36 | D9: 100 | E9: =46290.0431623279 + (VLOOKUP($B$1,TimeZones!$A$1:$C$28,2,FALSE))/24 -> 46290.335 | F9: =46290.0977327208 + (VLOOKUP($B$1,TimeZones!$A$1:$C$28,2,FALSE))/24 -> 46290.389
A10: 19438/edu540283/10/w3g4r7g8 | B10: Калинин Юрий Дмитриевич | C10: 35 | D10: 100 | E10: =46290.0510503192 + (VLOOKUP($B$1,TimeZones!$A$1:$C$28,2,FALSE))/24 -> 46290.343 | F10: =46290.0981872871 + (VLOOKUP($B$1,TimeZones!$A$1:$C$28,2,FALSE))/24 -> 46290.39
A11: 19438/edu540283/10/2qgq42v6 | B11: Мельников Тимофей Олегович | C11: 35 | D11: 100 | E11: =46290.0435749334 + (VLOOKUP($B$1,TimeZones!$A$1:$C$28,2,FALSE))/24 -> 46290.335 | F11: =46290.0977538575 + (VLOOKUP($B$1,TimeZones!$A$1:$C$28,2,FALSE))/24 -> 46290.389
A12: 19438/edu540283/10/35vz83v2 | B12: Кузнеделов Алексанр Игоревич | C12: 26 | D12: 100 | E12: =46290.047959875 + (VLOOKUP($B$1,TimeZones!$A$1:$C$28,2,FALSE))/24 -> 46290.34 | F12: =46290.0805293446 + (VLOOKUP($B$1,TimeZones!$A$1:$C$28,2,FALSE))/24 -> 46290.372
A13: 19438/edu540283/10/57v96zgz | B13: Питерский Данил Сергеевич | C13: 25 | D13: 100 | E13: =46290.0451097618 + (VLOOKUP($B$1,TimeZones!$A$1:$C$28,2,FALSE))/24 -> 46290.337 | F13: =46290.0639638446 + (VLOOKUP($B$1,TimeZones!$A$1:$C$28,2,FALSE))/24 -> 46290.356
A14: 19438/edu540283/10/r7g39qgz | B14: Костричко Елизавета Игоревна | C14: 23 | D14: 100 | E14: =46290.044290145 + (VLOOKUP($B$1,TimeZones!$A$1:$C$28,2,FALSE))/24 -> 46290.336 | F14: =46290.0951437464 + (VLOOKUP($B$1,TimeZones!$A$1:$C$28,2,FALSE))/24 -> 46290.387
A15: 19438/edu540283/10/2qgq52g6 | B15: Жальских Климентий Антонович | C15: 20 | D15: 100 | E15: =46290.0478906938 + (VLOOKUP($B$1,TimeZones!$A$1:$C$28,2,FALSE))/24 -> 46290.34 | F15: =46290.0841115506 + (VLOOKUP($B$1,TimeZones!$A$1:$C$28,2,FALSE))/24 -> 46290.376
A16: 19438/edu540283/10/35vz73g2 | B16: Филиппова Мария Дмитриевна | C16: 20 | D16: 100 | E16: =46290.0445869128 + (VLOOKUP($B$1,TimeZones!$A$1:$C$28,2,FALSE))/24 -> 46290.336 | F16: =46290.0952857747 + (VLOOKUP($B$1,TimeZones!$A$1:$C$28,2,FALSE))/24 -> 46290.387

Sheet 19439 Астрономия 11 класс
A1: Список участников появится после окончания олимпиады, если они будут

Sheet 19538 Биология 5 класс
A1: Список участников появится после окончания олимпиады, если они будут

Sheet 19539 Биология 6 класс
A1: Список участников появится после окончания олимпиады, если они будут

Sheet 19540 Биология 7 класс
A1: Список участников появится после окончания олимпиады, если они будут

Sheet 19541 Биология 8 класс
A1: Список участников появится после окончания олимпиады, если они будут

Sheet 19542 Биология 9 класс
A1: Список участников появится после окончания олимпиады, если они будут

Sheet 19543 Биология 10 класс
A1: Список участников появится после окончания олимпиады, если они будут

Sheet 19544 Биология 11 класс
A1: Список участников появится после окончания олимпиады, если они будут

Sheet 20328 Демонстрационная 11 класс
A1: Список участников появится после окончания олимпиады, если они будут

Sheet 20057 Информатика (инф 5 класс
A1: Список участников появится после окончания олимпиады, если они будут

Sheet 20058 Информатика (инф 6 класс
A1: Список участников появится после окончания олимпиады, если они будут

Sheet 20059 Информатика (инф 7 класс
A1: Список участников появится после окончания олимпиады, если они будут

Sheet 20060 Информатика (инф 8 класс
A1: Список участников появится после окончания олимпиады, если они будут

Sheet 20061 Информатика (инф 9 класс
A1: Список участников появится после окончания олимпиады, если они будут

Sheet 20062 Информатика (инф 10 класс
A1: Список участников появится после окончания олимпиады, если они будут

Sheet 20063 Информатика (инф 11 класс
A1: Список участников появится после окончания олимпиады, если они будут

Sheet 20078 Информатика (иск 5 класс
A1: Список участников появится после окончания олимпиады, если они будут

Sheet 20079 Информатика (иск 6 класс
A1: Список участников появится после окончания олимпиады, если они будут

Sheet 20080 Информатика (иск 7 класс
A1: Список участников появится после окончания олимпиады, если они будут

Sheet 20081 Информатика (иск 8 класс
A1: Список участников появится после окончания олимпиады, если они будут

Sheet 20082 Информатика (иск 9 класс
A1: Список участников появится после окончания олимпиады, если они будут

Sheet 20083 Информатика (иск 10 класс
A1: Список участников появится после окончания олимпиады, если они будут

Sheet 20084 Информатика (иск 11 класс
A1: Список участников появится после окончания олимпиады, если они будут

Sheet 19903 Информатика (про 5 класс
A1: Список участников появится после окончания олимпиады, если они будут

Sheet 19904 Информатика (про 6 класс
A1: Список участников появится после окончания олимпиады, если они будут

Sheet 19905 Информатика (про 7 класс
A1: Список участников появится после окончания олимпиады, если они будут

Sheet 19906 Информатика (про 8 класс
A1: Список участников появится после окончания олимпиады, если они будут

Sheet 19907 Информатика (про 9 класс
A1: Список участников появится после окончания олимпиады, если они будут

Sheet 19908 Информатика (про 10 класс
A1: Список участников появится после окончания олимпиады, если они будут

Sheet 19909 Информатика (про 11 класс
A1: Список участников появится после окончания олимпиады, если они будут

Sheet 19813 Информатика (роб 5 класс
A1: Список участников появится после окончания олимпиады, если они будут

Sheet 19814 Информатика (роб 6 класс
A1: Список участников появится после окончания олимпиады, если они будут

Sheet 19815 Информатика (роб 7 класс
A1: Список участников появится после окончания олимпиады, если они будут

Sheet 19816 Информатика (роб 8 класс
A1: Список участников появится после окончания олимпиады, если они будут

Sheet 19817 Информатика (роб 9 класс
A1: Список участников появится после окончания олимпиады, если они будут

Sheet 19818 Информатика (роб 10 класс
A1: Список участников появится после окончания олимпиады, если они будут

Sheet 19819 Информатика (роб 11 класс
A1: Список участников появится после окончания олимпиады, если они будут

Sheet 19693 Математика 4 класс
A1: Список участников появится после окончания олимпиады, если они будут

Sheet 19694 Математика 5 класс
A1: Список участников появится после окончания олимпиады, если они будут

Sheet 19695 Математика 6 класс
A1: Список участников появится после окончания олимпиады, если они будут

Sheet 19696 Математика 7 класс
A1: Список участников появится после окончания олимпиады, если они будут

Sheet 19697 Математика 8 класс
A1: Список участников появится после окончания олимпиады, если они будут

Sheet 19698 Математика 9 класс
A1: Список участников появится после окончания олимпиады, если они будут

Sheet 19699 Математика 10 класс
A1: Список участников появится после окончания олимпиады, если они будут

Sheet 19700 Математика 11 класс
A1: Список участников появится после окончания олимпиады, если они будут

Sheet 19519 Физика 7 класс
A1: Часовой пояс | B1: Новосибирск (МСК+4, UTC+7)
A3: Код | B3: ФИО | C3: ="Время начала сессии (" & VLOOKUP($B$1,TimeZones!$A$1:$C$28,3,FALSE) & ")" -> Время начала сессии (Новосибирск) | D3: ="Время конца сессии (" & VLOOKUP($B$1,TimeZones!$A$1:$C$28,3,FALSE) & ")" -> Время конца сессии (Новосибирск)
A4: 19519/edu540283/7/wr8g47vg | B4: Абашев Данил | C4: =46297.0420008591 + (VLOOKUP($B$1,TimeZones!$A$1:$C$28,2,FALSE))/24 -> 46297.334 | D4: =46297.0902202368 + (VLOOKUP($B$1,TimeZones!$A$1:$C$28,2,FALSE))/24 -> 46297.382
A5: 19519/edu540283/7/358z73v6 | B5: Балуев Андрей Денисович | C5: =46297.0436845186 + (VLOOKUP($B$1,TimeZones!$A$1:$C$28,2,FALSE))/24 -> 46297.335 | D5: =46297.0943224569 + (VLOOKUP($B$1,TimeZones!$A$1:$C$28,2,FALSE))/24 -> 46297.386
A6: 19519/edu540283/7/67v67589 | B6: Бондарева Нина Андреевна | C6: =46297.1189983332 + (VLOOKUP($B$1,TimeZones!$A$1:$C$28,2,FALSE))/24 -> 46297.411 | D6: =46297.1539469538 + (VLOOKUP($B$1,TimeZones!$A$1:$C$28,2,FALSE))/24 -> 46297.446
A7: 19519/edu540283/7/5789wz8q | B7: Брагин Илья Александрович | C7: =46297.1137093814 + (VLOOKUP($B$1,TimeZones!$A$1:$C$28,2,FALSE))/24 -> 46297.405 | D7: =46297.1684412686 + (VLOOKUP($B$1,TimeZones!$A$1:$C$28,2,FALSE))/24 -> 46297.46
A8: 19519/edu540283/7/5789zvqz | B8: Быструшкина варвара Викторовна | C8: =46297.1181061215 + (VLOOKUP($B$1,TimeZones!$A$1:$C$28,2,FALSE))/24 -> 46297.41 | D8: =46297.1602017452 + (VLOOKUP($B$1,TimeZones!$A$1:$C$28,2,FALSE))/24 -> 46297.452
A9: 19519/edu540283/7/wr8gq78g | B9: Власов Тихомир Юрьевич | C9: =46297.1140849192 + (VLOOKUP($B$1,TimeZones!$A$1:$C$28,2,FALSE))/24 -> 46297.406 | D9: =46297.1579565183 + (VLOOKUP($B$1,TimeZones!$A$1:$C$28,2,FALSE))/24 -> 46297.45
A10: 19519/edu540283/7/5789gz8q | B10: Гавринёв Филипп Максимович | C10: =46297.1184596687 + (VLOOKUP($B$1,TimeZones!$A$1:$C$28,2,FALSE))/24 -> 46297.41 | D10: =46297.1570584404 + (VLOOKUP($B$1,TimeZones!$A$1:$C$28,2,FALSE))/24 -> 46297.449
A11: 19519/edu540283/7/gr8566vw | B11: Гаспарян Анри Геворгович | C11: =46297.1177295559 + (VLOOKUP($B$1,TimeZones!$A$1:$C$28,2,FALSE))/24 -> 46297.409 | D11: =46297.149950291 + (VLOOKUP($B$1,TimeZones!$A$1:$C$28,2,FALSE))/24 -> 46297.442
A12: 19519/edu540283/7/q4v7r686 | B12: Головин Степан Андреевич | C12: =46297.1141125372 + (VLOOKUP($B$1,TimeZones!$A$1:$C$28,2,FALSE))/24 -> 46297.406 | D12: =46297.1611629702 + (VLOOKUP($B$1,TimeZones!$A$1:$C$28,2,FALSE))/24 -> 46297.453
A13: 19519/edu540283/7/gr85568w | B13: Грязнов Максим Андреевич | C13: =46297.1137750796 + (VLOOKUP($B$1,TimeZones!$A$1:$C$28,2,FALSE))/24 -> 46297.405 | D13: =46297.1279888118 + (VLOOKUP($B$1,TimeZones!$A$1:$C$28,2,FALSE))/24 -> 46297.42
A14: 19519/edu540283/7/q4v757v6 | B14: Гутов Никита Сергеевич | C14: =46297.0452030555 + (VLOOKUP($B$1,TimeZones!$A$1:$C$28,2,FALSE))/24 -> 46297.337 | D14: =46297.090907171 + (VLOOKUP($B$1,TimeZones!$A$1:$C$28,2,FALSE))/24 -> 46297.383
A15: 19519/edu540283/7/23v2q586 | B15: Дегтярь Марина Евгеньевна | C15: =46297.1176926838 + (VLOOKUP($B$1,TimeZones!$A$1:$C$28,2,FALSE))/24 -> 46297.409 | D15: =46297.1559357167 + (VLOOKUP($B$1,TimeZones!$A$1:$C$28,2,FALSE))/24 -> 46297.448
A16: 19519/edu540283/7/358z2286 | B16: Добряк Лилия Андреевна | C16: =46297.1186892444 + (VLOOKUP($B$1,TimeZones!$A$1:$C$28,2,FALSE))/24 -> 46297.41 | D16: =46297.1561704645 + (VLOOKUP($B$1,TimeZones!$A$1:$C$28,2,FALSE))/24 -> 46297.448
A17: 19519/edu540283/7/gr85778w | B17: Елизаров Михаил Геннадьевич | C17: =46297.0431185355 + (VLOOKUP($B$1,TimeZones!$A$1:$C$28,2,FALSE))/24 -> 46297.335 | D17: =46297.1021841684 + (VLOOKUP($B$1,TimeZones!$A$1:$C$28,2,FALSE))/24 -> 46297.394
A18: 19519/edu540283/7/w3v4r7v2 | B18: Ельшов Кирилл Борисович | C18: =46297.1141204334 + (VLOOKUP($B$1,TimeZones!$A$1:$C$28,2,FALSE))/24 -> 46297.406 | D18: =46297.1521547912 + (VLOOKUP($B$1,TimeZones!$A$1:$C$28,2,FALSE))/24 -> 46297.444
A19: 19519/edu540283/7/57897z8q | B19: Жоголев Роман Владиславович | C19: =46297.5878095696 + (VLOOKUP($B$1,TimeZones!$A$1:$C$28,2,FALSE))/24 -> 46297.879 | D19: =46297.6083300868 + (VLOOKUP($B$1,TimeZones!$A$1:$C$28,2,FALSE))/24 -> 46297.9
A20: 19519/edu540283/7/q4v72786 | B20: Залевская Ксения Александровна | C20: =46297.1186945287 + (VLOOKUP($B$1,TimeZones!$A$1:$C$28,2,FALSE))/24 -> 46297.41 | D20: =46297.152319686 + (VLOOKUP($B$1,TimeZones!$A$1:$C$28,2,FALSE))/24 -> 46297.444
A21: 19519/edu540283/7/278r99vg | B21: Зеленев Егор Андреевич | C21: =46297.1152838438 + (VLOOKUP($B$1,TimeZones!$A$1:$C$28,2,FALSE))/24 -> 46297.407 | D21: =46297.1578376487 + (VLOOKUP($B$1,TimeZones!$A$1:$C$28,2,FALSE))/24 -> 46297.45
A22: 19519/edu540283/7/358zw3v6 | B22: Иванов Егор Андреевич | C22: =46297.1186742315 + (VLOOKUP($B$1,TimeZones!$A$1:$C$28,2,FALSE))/24 -> 46297.41 | D22: =46297.1374395248 + (VLOOKUP($B$1,TimeZones!$A$1:$C$28,2,FALSE))/24 -> 46297.429
A23: 19519/edu540283/7/wr8g67vg | B23: Коньков Матвей Константинович | C23: =46297.1141003004 + (VLOOKUP($B$1,TimeZones!$A$1:$C$28,2,FALSE))/24 -> 46297.406 | D23: =46297.1372773372 + (VLOOKUP($B$1,TimeZones!$A$1:$C$28,2,FALSE))/24 -> 46297.429
A24: 19519/edu540283/7/278r5qvg | B24: Копылов Всеволод Владиславович | C24: =46297.1146268372 + (VLOOKUP($B$1,TimeZones!$A$1:$C$28,2,FALSE))/24 -> 46297.406 | D24: =46297.1531412291 + (VLOOKUP($B$1,TimeZones!$A$1:$C$28,2,FALSE))/24 -> 46297.445
A25: 19519/edu540283/7/w3v4782r | B25: Кошевский Александр Дмитриевич | C25: =46297.1188406394 + (VLOOKUP($B$1,TimeZones!$A$1:$C$28,2,FALSE))/24 -> 46297.411 | D25: =46297.1557086912 + (VLOOKUP($B$1,TimeZones!$A$1:$C$28,2,FALSE))/24 -> 46297.447
A26: 19519/edu540283/7/67v645v9 | B26: Круш Иван Владимирович | C26: =46297.1143329484 + (VLOOKUP($B$1,TimeZones!$A$1:$C$28,2,FALSE))/24 -> 46297.406 | D26: =46297.1556643466 + (VLOOKUP($B$1,TimeZones!$A$1:$C$28,2,FALSE))/24 -> 46297.447
A27: 19519/edu540283/7/23v224v6 | B27: Ксенофонтова София Ксенофонтовна | C27: =46297.1629880818 + (VLOOKUP($B$1,TimeZones!$A$1:$C$28,2,FALSE))/24 -> 46297.455 | D27: =46297.1962974206 + (VLOOKUP($B$1,TimeZones!$A$1:$C$28,2,FALSE))/24 -> 46297.488
A28: 19519/edu540283/7/2qvq28rw | B28: Лесникова Виктория Алексеевна | C28: =46297.1150980218 + (VLOOKUP($B$1,TimeZones!$A$1:$C$28,2,FALSE))/24 -> 46297.407 | D28: =46297.1389454918 + (VLOOKUP($B$1,TimeZones!$A$1:$C$28,2,FALSE))/24 -> 46297.431
A29: 19519/edu540283/7/358z93v6 | B29: Лукашевич Лев Станиславович | C29: =46297.1182807438 + (VLOOKUP($B$1,TimeZones!$A$1:$C$28,2,FALSE))/24 -> 46297.41 | D29: =46297.1537275739 + (VLOOKUP($B$1,TimeZones!$A$1:$C$28,2,FALSE))/24 -> 46297.445
A30: 19519/edu540283/7/wr8gwq8g | B30: Мамонтов Дмитрий Александрович | C30: =46297.118323293 + (VLOOKUP($B$1,TimeZones!$A$1:$C$28,2,FALSE))/24 -> 46297.41 | D30: =46297.1571643032 + (VLOOKUP($B$1,TimeZones!$A$1:$C$28,2,FALSE))/24 -> 46297.449
A31: 19519/edu540283/7/w3v45782 | B31: Матвиенко Максим Евгеньевич | C31: =46297.118511005 + (VLOOKUP($B$1,TimeZones!$A$1:$C$28,2,FALSE))/24 -> 46297.41 | D31: =46297.1550036595 + (VLOOKUP($B$1,TimeZones!$A$1:$C$28,2,FALSE))/24 -> 46297.447
A32: 19519/edu540283/7/2qvqq2vr | B32: Назаров Захар Андреевич | C32: =46297.0443957065 + (VLOOKUP($B$1,TimeZones!$A$1:$C$28,2,FALSE))/24 -> 46297.336 | D32: =46297.1004603906 + (VLOOKUP($B$1,TimeZones!$A$1:$C$28,2,FALSE))/24 -> 46297.392
A33: 19519/edu540283/7/23v25865 | B33: Неживых Вадим Алексеевич | C33: =46297.1137489268 + (VLOOKUP($B$1,TimeZones!$A$1:$C$28,2,FALSE))/24 -> 46297.405 | D33: =46297.1530903002 + (VLOOKUP($B$1,TimeZones!$A$1:$C$28,2,FALSE))/24 -> 46297.445
A34: 19519/edu540283/7/wr8gz7vg | B34: Новикова Анна Владимировна | C34: =46297.1178950169 + (VLOOKUP($B$1,TimeZones!$A$1:$C$28,2,FALSE))/24 -> 46297.41 | D34: =46297.1498685294 + (VLOOKUP($B$1,TimeZones!$A$1:$C$28,2,FALSE))/24 -> 46297.442
A35: 19519/edu540283/7/278rz98g | B35: Орел Иван Андреевич | C35: =46297.1136085692 + (VLOOKUP($B$1,TimeZones!$A$1:$C$28,2,FALSE))/24 -> 46297.405 | D35: =46297.1560843809 + (VLOOKUP($B$1,TimeZones!$A$1:$C$28,2,FALSE))/24 -> 46297.448
A36: 19519/edu540283/7/57894zvq | B36: Панкевич Артемий Александрович | C36: =46297.1177463512 + (VLOOKUP($B$1,TimeZones!$A$1:$C$28,2,FALSE))/24 -> 46297.409 | D36: =46297.1410027466 + (VLOOKUP($B$1,TimeZones!$A$1:$C$28,2,FALSE))/24 -> 46297.433
A37: 19519/edu540283/7/278r59vg | B37: Пастухова Александра Алексеевна | C37: =46297.1187361534 + (VLOOKUP($B$1,TimeZones!$A$1:$C$28,2,FALSE))/24 -> 46297.41 | D37: =46297.15531974 + (VLOOKUP($B$1,TimeZones!$A$1:$C$28,2,FALSE))/24 -> 46297.447
A38: 19519/edu540283/7/w3v4w582 | B38: Рамзина Валерия Евгеньевна | C38: =46297.1192547252 + (VLOOKUP($B$1,TimeZones!$A$1:$C$28,2,FALSE))/24 -> 46297.411 | D38: =46297.1558788693 + (VLOOKUP($B$1,TimeZones!$A$1:$C$28,2,FALSE))/24 -> 46297.448
A39: 19519/edu540283/7/gr8546vw | B39: Рогов Михаил Федорович | C39: =46297.1182441724 + (VLOOKUP($B$1,TimeZones!$A$1:$C$28,2,FALSE))/24 -> 46297.41 | D39: =46297.1563999169 + (VLOOKUP($B$1,TimeZones!$A$1:$C$28,2,FALSE))/24 -> 46297.448
A40: 19519/edu540283/7/w3v43782 | B40: Русских Лука Михайлович | C40: =46297.1188432501 + (VLOOKUP($B$1,TimeZones!$A$1:$C$28,2,FALSE))/24 -> 46297.411 | D40: =46297.1545666206 + (VLOOKUP($B$1,TimeZones!$A$1:$C$28,2,FALSE))/24 -> 46297.446
A41: 19519/edu540283/7/r7v36r8z | B41: Рыбкина Анна Евгеньевна | C41: =46297.1196369087 + (VLOOKUP($B$1,TimeZones!$A$1:$C$28,2,FALSE))/24 -> 46297.411 | D41: =46297.1821369087 + (VLOOKUP($B$1,TimeZones!$A$1:$C$28,2,FALSE))/24 -> 46297.474
A42: 19519/edu540283/7/w3v4q782 | B42: Савельев Алексей Павлович | C42: =46297.114031897 + (VLOOKUP($B$1,TimeZones!$A$1:$C$28,2,FALSE))/24 -> 46297.406 | D42: =46297.1510218911 + (VLOOKUP($B$1,TimeZones!$A$1:$C$28,2,FALSE))/24 -> 46297.443
A43: 19519/edu540283/7/wr8gw78g | B43: Савиных Елизавета Ивановна | C43: =46297.1144510779 + (VLOOKUP($B$1,TimeZones!$A$1:$C$28,2,FALSE))/24 -> 46297.406 | D43: =46297.1635313797 + (VLOOKUP($B$1,TimeZones!$A$1:$C$28,2,FALSE))/24 -> 46297.455
A44: 19519/edu540283/7/23v29586 | B44: Сакович Тимофей Михайлович | C44: =46297.1182097892 + (VLOOKUP($B$1,TimeZones!$A$1:$C$28,2,FALSE))/24 -> 46297.41 | D44: =46297.1470841622 + (VLOOKUP($B$1,TimeZones!$A$1:$C$28,2,FALSE))/24 -> 46297.439
A45: 19519/edu540283/7/wr8g778g | B45: Селезнев Игорь Александрович | C45: =46297.0441424408 + (VLOOKUP($B$1,TimeZones!$A$1:$C$28,2,FALSE))/24 -> 46297.336 | D45: =46297.1008960984 + (VLOOKUP($B$1,TimeZones!$A$1:$C$28,2,FALSE))/24 -> 46297.393
A46: 19519/edu540283/7/r7v3qqvz | B46: Сизиков Семён Алексеевич | C46: =46297.1149347053 + (VLOOKUP($B$1,TimeZones!$A$1:$C$28,2,FALSE))/24 -> 46297.407 | D46: =46297.1661292215 + (VLOOKUP($B$1,TimeZones!$A$1:$C$28,2,FALSE))/24 -> 46297.458
A47: 19519/edu540283/7/r7v39qvz | B47: Созонтова Елизавета Николаевна | C47: =46297.11848736 + (VLOOKUP($B$1,TimeZones!$A$1:$C$28,2,FALSE))/24 -> 46297.41 | D47: =46297.1560528334 + (VLOOKUP($B$1,TimeZones!$A$1:$C$28,2,FALSE))/24 -> 46297.448
A48: 19519/edu540283/7/w3v4g782 | B48: Сорокин Григорий Юрьевич | C48: =46297.1194970221 + (VLOOKUP($B$1,TimeZones!$A$1:$C$28,2,FALSE))/24 -> 46297.411 | D48: =46297.1549015056 + (VLOOKUP($B$1,TimeZones!$A$1:$C$28,2,FALSE))/24 -> 46297.447
A49: 19519/edu540283/7/r7v33qvz | B49: Староверов Максимилиан Дмитриевич | C49: =46297.0418782025 + (VLOOKUP($B$1,TimeZones!$A$1:$C$28,2,FALSE))/24 -> 46297.334 | D49: =46297.1006165433 + (VLOOKUP($B$1,TimeZones!$A$1:$C$28,2,FALSE))/24 -> 46297.392
A50: 19519/edu540283/7/7qvwzr8w | B50: Филонова Эмма Алексеевна | C50: =46297.1187345263 + (VLOOKUP($B$1,TimeZones!$A$1:$C$28,2,FALSE))/24 -> 46297.41 | D50: =46297.1521181727 + (VLOOKUP($B$1,TimeZones!$A$1:$C$28,2,FALSE))/24 -> 46297.444
A51: 19519/edu540283/7/q4v74686 | B51: Чепурнова Варвара Евгеньевна | C51: =46297.1187236962 + (VLOOKUP($B$1,TimeZones!$A$1:$C$28,2,FALSE))/24 -> 46297.41 | D51: =46297.1512507446 + (VLOOKUP($B$1,TimeZones!$A$1:$C$28,2,FALSE))/24 -> 46297.443
A52: 19519/edu540283/7/67v665v9 | B52: Чернов Роман Константинович | C52: =46297.0424902169 + (VLOOKUP($B$1,TimeZones!$A$1:$C$28,2,FALSE))/24 -> 46297.334 | D52: =46297.095541326 + (VLOOKUP($B$1,TimeZones!$A$1:$C$28,2,FALSE))/24 -> 46297.387
A53: 19519/edu540283/7/wr8g78g7 | B53: Шалабанов Семëн Сергеевич | C53: =46297.1179999081 + (VLOOKUP($B$1,TimeZones!$A$1:$C$28,2,FALSE))/24 -> 46297.41 | D53: =46297.1553425664 + (VLOOKUP($B$1,TimeZones!$A$1:$C$28,2,FALSE))/24 -> 46297.447
A54: 19519/edu540283/7/w3v467v2 | B54: Шаталов Иван Юрьевич | C54: =46297.1185021498 + (VLOOKUP($B$1,TimeZones!$A$1:$C$28,2,FALSE))/24 -> 46297.41 | D54: =46297.1553055438 + (VLOOKUP($B$1,TimeZones!$A$1:$C$28,2,FALSE))/24 -> 46297.447
A55: 19519/edu540283/7/67v6rwv9 | B55: Шушпанов Лев Михайлович | C55: =46297.1188129371 + (VLOOKUP($B$1,TimeZones!$A$1:$C$28,2,FALSE))/24 -> 46297.41 | D55: =46297.1509162158 + (VLOOKUP($B$1,TimeZones!$A$1:$C$28,2,FALSE))/24 -> 46297.443
A56: 19519/edu540283/7/278r498g | B56: Якимов Роман Андреевич | C56: =46297.1153149584 + (VLOOKUP($B$1,TimeZones!$A$1:$C$28,2,FALSE))/24 -> 46297.407 | D56: =46297.1720974561 + (VLOOKUP($B$1,TimeZones!$A$1:$C$28,2,FALSE))/24 -> 46297.464
A57: 19519/edu540283/7/67v6g589 | B57: Яковенко Василина Александровна | C57: =46297.1154025108 + (VLOOKUP($B$1,TimeZones!$A$1:$C$28,2,FALSE))/24 -> 46297.407 | D57: =46297.1779025108 + (VLOOKUP($B$1,TimeZones!$A$1:$C$28,2,FALSE))/24 -> 46297.47
A58: 19519/edu540283/7/gr85q68w | B58: Яхотина Мария Константиновна | C58: =46297.0424880123 + (VLOOKUP($B$1,TimeZones!$A$1:$C$28,2,FALSE))/24 -> 46297.334 | D58: =46297.0847458172 + (VLOOKUP($B$1,TimeZones!$A$1:$C$28,2,FALSE))/24 -> 46297.376

Sheet 19520 Физика 8 класс
A1: Часовой пояс | B1: Новосибирск (МСК+4, UTC+7)
A3: Код | B3: ФИО | C3: ="Время начала сессии (" & VLOOKUP($B$1,TimeZones!$A$1:$C$28,3,FALSE) & ")" -> Время начала сессии (Новосибирск) | D3: ="Время конца сессии (" & VLOOKUP($B$1,TimeZones!$A$1:$C$28,3,FALSE) & ")" -> Время конца сессии (Новосибирск)
A4: 19520/edu540283/8/35gzq3vq | B4: Андреев Максим Павлович | C4: =46297.0799177667 + (VLOOKUP($B$1,TimeZones!$A$1:$C$28,2,FALSE))/24 -> 46297.372 | D4: =46297.1291146385 + (VLOOKUP($B$1,TimeZones!$A$1:$C$28,2,FALSE))/24 -> 46297.421
A5: 19520/edu540283/8/2qvq42g9 | B5: Аникеев Михаил Иванович | C5: =46297.0799149499 + (VLOOKUP($B$1,TimeZones!$A$1:$C$28,2,FALSE))/24 -> 46297.372 | D5: =46297.1200484242 + (VLOOKUP($B$1,TimeZones!$A$1:$C$28,2,FALSE))/24 -> 46297.412
A6: 19520/edu540283/8/27gr9vq5 | B6: Архипов Артем Александрович | C6: =46297.0795021386 + (VLOOKUP($B$1,TimeZones!$A$1:$C$28,2,FALSE))/24 -> 46297.371 | D6: =46297.1162459148 + (VLOOKUP($B$1,TimeZones!$A$1:$C$28,2,FALSE))/24 -> 46297.408
A7: 19520/edu540283/8/27grq9vq | B7: Баранов Александр Олегович | C7: =46297.0450614636 + (VLOOKUP($B$1,TimeZones!$A$1:$C$28,2,FALSE))/24 -> 46297.337 | D7: =46297.078398281 + (VLOOKUP($B$1,TimeZones!$A$1:$C$28,2,FALSE))/24 -> 46297.37
A8: 19520/edu540283/8/q4v736v9 | B8: Баусов Михаил Витальевич | C8: =46297.0801194533 + (VLOOKUP($B$1,TimeZones!$A$1:$C$28,2,FALSE))/24 -> 46297.372 | D8: =46297.1420178821 + (VLOOKUP($B$1,TimeZones!$A$1:$C$28,2,FALSE))/24 -> 46297.434
A9: 19520/edu540283/8/w3v467v7 | B9: Бурашникова Анастасия Константиновна | C9: =46297.0819788464 + (VLOOKUP($B$1,TimeZones!$A$1:$C$28,2,FALSE))/24 -> 46297.374 | D9: =46297.1182549185 + (VLOOKUP($B$1,TimeZones!$A$1:$C$28,2,FALSE))/24 -> 46297.41
A10: 19520/edu540283/8/w3v427v7 | B10: Бурховецкий Тимофей Евгеньевич | C10: =46297.0442876312 + (VLOOKUP($B$1,TimeZones!$A$1:$C$28,2,FALSE))/24 -> 46297.336 | D10: =46297.082541716 + (VLOOKUP($B$1,TimeZones!$A$1:$C$28,2,FALSE))/24 -> 46297.374
A11: 19520/edu540283/8/7rg822g5 | B11: Власюк Кснения Витальевна | C11: =46297.0792129196 + (VLOOKUP($B$1,TimeZones!$A$1:$C$28,2,FALSE))/24 -> 46297.371 | D11: =46297.1117717124 + (VLOOKUP($B$1,TimeZones!$A$1:$C$28,2,FALSE))/24 -> 46297.403
A12: 19520/edu540283/8/57g93zgq | B12: Войнов Денис Максимович | C12: =46297.0799932128 + (VLOOKUP($B$1,TimeZones!$A$1:$C$28,2,FALSE))/24 -> 46297.372 | D12: =46297.139177911 + (VLOOKUP($B$1,TimeZones!$A$1:$C$28,2,FALSE))/24 -> 46297.431
A13: 19520/edu540283/8/wrg5r6v5 | B13: Евмененко Егор Сргеевич | C13: =46297.0491729841 + (VLOOKUP($B$1,TimeZones!$A$1:$C$28,2,FALSE))/24 -> 46297.341 | D13: =46297.0673936553 + (VLOOKUP($B$1,TimeZones!$A$1:$C$28,2,FALSE))/24 -> 46297.359
A14: 19520/edu540283/8/57g9zzvq | B14: Евневич София Евгеньевна | C14: =46297.0793187119 + (VLOOKUP($B$1,TimeZones!$A$1:$C$28,2,FALSE))/24 -> 46297.371 | D14: =46297.1145275897 + (VLOOKUP($B$1,TimeZones!$A$1:$C$28,2,FALSE))/24 -> 46297.406
A15: 19520/edu540283/8/35gz93vq | B15: Евтушок Алиса Евгеньевна | C15: =46297.0793276073 + (VLOOKUP($B$1,TimeZones!$A$1:$C$28,2,FALSE))/24 -> 46297.371 | D15: =46297.1121373621 + (VLOOKUP($B$1,TimeZones!$A$1:$C$28,2,FALSE))/24 -> 46297.404
A16: 19520/edu540283/8/wrg566v5 | B16: Журавлев Алиса Алексеевна | C16: =46297.0797387198 + (VLOOKUP($B$1,TimeZones!$A$1:$C$28,2,FALSE))/24 -> 46297.371 | D16: =46297.1230186616 + (VLOOKUP($B$1,TimeZones!$A$1:$C$28,2,FALSE))/24 -> 46297.415
A17: 19520/edu540283/8/q4v7q6v9 | B17: Журавлев Иван Вадимович | C17: =46297.0793620843 + (VLOOKUP($B$1,TimeZones!$A$1:$C$28,2,FALSE))/24 -> 46297.371 | D17: =46297.1143901977 + (VLOOKUP($B$1,TimeZones!$A$1:$C$28,2,FALSE))/24 -> 46297.406
A18: 19520/edu540283/8/wrg546v5 | B18: Зайцев Матвей Андреевич | C18: =46297.050282522 + (VLOOKUP($B$1,TimeZones!$A$1:$C$28,2,FALSE))/24 -> 46297.342 | D18: =46297.0804873635 + (VLOOKUP($B$1,TimeZones!$A$1:$C$28,2,FALSE))/24 -> 46297.372
A19: 19520/edu540283/8/7rg862g5 | B19: Збоев Ростислав Александрович | C19: =46297.0798229567 + (VLOOKUP($B$1,TimeZones!$A$1:$C$28,2,FALSE))/24 -> 46297.371 | D19: =46297.123213626 + (VLOOKUP($B$1,TimeZones!$A$1:$C$28,2,FALSE))/24 -> 46297.415
A20: 19520/edu540283/8/q4v7w6v9 | B20: Зыков Евгений Игоревич | C20: =46297.0424001758 + (VLOOKUP($B$1,TimeZones!$A$1:$C$28,2,FALSE))/24 -> 46297.334 | D20: =46297.1010949812 + (VLOOKUP($B$1,TimeZones!$A$1:$C$28,2,FALSE))/24 -> 46297.393
A21: 19520/edu540283/8/w3v4q7g7 | B21: Керобян Артём Сережевич | C21: =46297.0419538255 + (VLOOKUP($B$1,TimeZones!$A$1:$C$28,2,FALSE))/24 -> 46297.334 | D21: =46297.0806794961 + (VLOOKUP($B$1,TimeZones!$A$1:$C$28,2,FALSE))/24 -> 46297.372
A22: 19520/edu540283/8/w3v457g7 | B22: Киреева Анастасия Андреевна | C22: =46297.0792005087 + (VLOOKUP($B$1,TimeZones!$A$1:$C$28,2,FALSE))/24 -> 46297.371 | D22: =46297.1347242493 + (VLOOKUP($B$1,TimeZones!$A$1:$C$28,2,FALSE))/24 -> 46297.426
A23: 19520/edu540283/8/7qgw87vz | B23: Кондратьев Дмитрий Вячеславович | C23: =46297.0791721901 + (VLOOKUP($B$1,TimeZones!$A$1:$C$28,2,FALSE))/24 -> 46297.371 | D23: =46297.1156195444 + (VLOOKUP($B$1,TimeZones!$A$1:$C$28,2,FALSE))/24 -> 46297.407
A24: 19520/edu540283/8/2qvq32v9 | B24: Кочеркина Кира Максимовна | C24: =46297.0793725775 + (VLOOKUP($B$1,TimeZones!$A$1:$C$28,2,FALSE))/24 -> 46297.371 | D24: =46297.111728187 + (VLOOKUP($B$1,TimeZones!$A$1:$C$28,2,FALSE))/24 -> 46297.403
A25: 19520/edu540283/8/27gr49gq | B25: Кравченко Платон Евгеньевич | C25: =46297.0798980459 + (VLOOKUP($B$1,TimeZones!$A$1:$C$28,2,FALSE))/24 -> 46297.372 | D25: =46297.1371161036 + (VLOOKUP($B$1,TimeZones!$A$1:$C$28,2,FALSE))/24 -> 46297.429
A26: 19520/edu540283/8/67v6z5vr | B26: Куравин Лев Игоревич | C26: =46297.0813054503 + (VLOOKUP($B$1,TimeZones!$A$1:$C$28,2,FALSE))/24 -> 46297.373 | D26: =46297.1095969306 + (VLOOKUP($B$1,TimeZones!$A$1:$C$28,2,FALSE))/24 -> 46297.401
A27: 19520/edu540283/8/r7v38qgz | B27: Лазаренко Арсений Филиппович | C27: =46297.0417916181 + (VLOOKUP($B$1,TimeZones!$A$1:$C$28,2,FALSE))/24 -> 46297.333 | D27: =46297.0717015754 + (VLOOKUP($B$1,TimeZones!$A$1:$C$28,2,FALSE))/24 -> 46297.363
A28: 19520/edu540283/8/67v668vr | B28: Леонович Максим Игоревич | C28: =46297.0788402222 + (VLOOKUP($B$1,TimeZones!$A$1:$C$28,2,FALSE))/24 -> 46297.371 | D28: =46297.1027900894 + (VLOOKUP($B$1,TimeZones!$A$1:$C$28,2,FALSE))/24 -> 46297.394
A29: 19520/edu540283/8/67v665vr | B29: Лобинцева Виталина Арсеньевна | C29: =46297.0799980608 + (VLOOKUP($B$1,TimeZones!$A$1:$C$28,2,FALSE))/24 -> 46297.372 | D29: =46297.118720423 + (VLOOKUP($B$1,TimeZones!$A$1:$C$28,2,FALSE))/24 -> 46297.41
A30: 19520/edu540283/8/w3v275g7 | B30: Машукова Анастасия Николаевна | C30: =46297.0803740395 + (VLOOKUP($B$1,TimeZones!$A$1:$C$28,2,FALSE))/24 -> 46297.372 | D30: =46297.1035946096 + (VLOOKUP($B$1,TimeZones!$A$1:$C$28,2,FALSE))/24 -> 46297.395
A31: 19520/edu540283/8/r7v39qvz | B31: Муминова Мадина Давронбек кизи | C31: =46297.0793152905 + (VLOOKUP($B$1,TimeZones!$A$1:$C$28,2,FALSE))/24 -> 46297.371 | D31: =46297.1146323696 + (VLOOKUP($B$1,TimeZones!$A$1:$C$28,2,FALSE))/24 -> 46297.406
A32: 19520/edu540283/8/w3v235g7 | B32: Нарашкина Алиса Алексеевна | C32: =46297.0805809018 + (VLOOKUP($B$1,TimeZones!$A$1:$C$28,2,FALSE))/24 -> 46297.372 | D32: =46297.1110125488 + (VLOOKUP($B$1,TimeZones!$A$1:$C$28,2,FALSE))/24 -> 46297.403
A33: 19520/edu540283/8/w3v47g7z | B33: Нечаева Валерия Станиславовна | C33: =46297.0793900067 + (VLOOKUP($B$1,TimeZones!$A$1:$C$28,2,FALSE))/24 -> 46297.371 | D33: =46297.1209550104 + (VLOOKUP($B$1,TimeZones!$A$1:$C$28,2,FALSE))/24 -> 46297.413
A34: 19520/edu540283/8/wrg5q6g5 | B34: Никитенко Софья Валентиновна | C34: =46297.0807308639 + (VLOOKUP($B$1,TimeZones!$A$1:$C$28,2,FALSE))/24 -> 46297.372 | D34: =46297.1289735335 + (VLOOKUP($B$1,TimeZones!$A$1:$C$28,2,FALSE))/24 -> 46297.421
A35: 19520/edu540283/8/w3v265v7 | B35: Николаев Дмитрий Михайлович | C35: =46297.0792790083 + (VLOOKUP($B$1,TimeZones!$A$1:$C$28,2,FALSE))/24 -> 46297.371 | D35: =46297.1047751254 + (VLOOKUP($B$1,TimeZones!$A$1:$C$28,2,FALSE))/24 -> 46297.396
A36: 19520/edu540283/8/7qgw67vz | B36: Парамзина Юлия Игоревна | C36: =46297.0791402628 + (VLOOKUP($B$1,TimeZones!$A$1:$C$28,2,FALSE))/24 -> 46297.371 | D36: =46297.1016882794 + (VLOOKUP($B$1,TimeZones!$A$1:$C$28,2,FALSE))/24 -> 46297.393
A37: 19520/edu540283/8/7qgw82vz | B37: Парыгина Валерия Артёмовна | C37: =46297.0804938101 + (VLOOKUP($B$1,TimeZones!$A$1:$C$28,2,FALSE))/24 -> 46297.372 | D37: =46297.1255834384 + (VLOOKUP($B$1,TimeZones!$A$1:$C$28,2,FALSE))/24 -> 46297.417
A38: 19520/edu540283/8/r7v33qvz | B38: Пахомова Ксения Владимировна | C38: =46297.0789817894 + (VLOOKUP($B$1,TimeZones!$A$1:$C$28,2,FALSE))/24 -> 46297.371 | D38: =46297.1243676781 + (VLOOKUP($B$1,TimeZones!$A$1:$C$28,2,FALSE))/24 -> 46297.416
A39: 19520/edu540283/8/w3v4r7v7 | B39: Пилипенко Максим Андреевич | C39: =46297.0419541336 + (VLOOKUP($B$1,TimeZones!$A$1:$C$28,2,FALSE))/24 -> 46297.334 | D39: =46297.0943389633 + (VLOOKUP($B$1,TimeZones!$A$1:$C$28,2,FALSE))/24 -> 46297.386
A40: 19520/edu540283/8/57g9qzgq | B40: Попова Екатерина Ивановна | C40: =46297.0799711263 + (VLOOKUP($B$1,TimeZones!$A$1:$C$28,2,FALSE))/24 -> 46297.372 | D40: =46297.1215417684 + (VLOOKUP($B$1,TimeZones!$A$1:$C$28,2,FALSE))/24 -> 46297.413
A41: 19520/edu540283/8/7qgw97gz | B41: Рудаков Артём Сергеевич | C41: =46297.0795683336 + (VLOOKUP($B$1,TimeZones!$A$1:$C$28,2,FALSE))/24 -> 46297.371 | D41: =46297.1357981713 + (VLOOKUP($B$1,TimeZones!$A$1:$C$28,2,FALSE))/24 -> 46297.427
A42: 19520/edu540283/8/57g9r6vq | B42: Сазонов Павел Витальевич | C42: =46297.0809786618 + (VLOOKUP($B$1,TimeZones!$A$1:$C$28,2,FALSE))/24 -> 46297.373 | D42: =46297.1248041037 + (VLOOKUP($B$1,TimeZones!$A$1:$C$28,2,FALSE))/24 -> 46297.416
A43: 19520/edu540283/8/7rg832v5 | B43: Саяпина Арина Михайловна | C43: =46297.0799761405 + (VLOOKUP($B$1,TimeZones!$A$1:$C$28,2,FALSE))/24 -> 46297.372 | D43: =46297.123986744 + (VLOOKUP($B$1,TimeZones!$A$1:$C$28,2,FALSE))/24 -> 46297.416
A44: 19520/edu540283/8/7qgw47vz | B44: Сергеев Владимир Кириллович | C44: =46297.0495532261 + (VLOOKUP($B$1,TimeZones!$A$1:$C$28,2,FALSE))/24 -> 46297.341 | D44: =46297.0666655002 + (VLOOKUP($B$1,TimeZones!$A$1:$C$28,2,FALSE))/24 -> 46297.358
A45: 19520/edu540283/8/27grw9vq | B45: Сотниченко Тимофей Романович | C45: =46297.07917452 + (VLOOKUP($B$1,TimeZones!$A$1:$C$28,2,FALSE))/24 -> 46297.371 | D45: =46297.1166874812 + (VLOOKUP($B$1,TimeZones!$A$1:$C$28,2,FALSE))/24 -> 46297.408
A46: 19520/edu540283/8/w3v4w7g7 | B46: Сумин Савелий Викторович | C46: =46297.0791619823 + (VLOOKUP($B$1,TimeZones!$A$1:$C$28,2,FALSE))/24 -> 46297.371 | D46: =46297.1052508841 + (VLOOKUP($B$1,TimeZones!$A$1:$C$28,2,FALSE))/24 -> 46297.397
A47: 19520/edu540283/8/27grr9gq | B47: Сурнина Варвара Сергеевна | C47: =46297.0794408746 + (VLOOKUP($B$1,TimeZones!$A$1:$C$28,2,FALSE))/24 -> 46297.371 | D47: =46297.1081597082 + (VLOOKUP($B$1,TimeZones!$A$1:$C$28,2,FALSE))/24 -> 46297.4
A48: 19520/edu540283/8/7qgw77gz | B48: Танчева Полина Алексеевна | C48: =46297.0794729668 + (VLOOKUP($B$1,TimeZones!$A$1:$C$28,2,FALSE))/24 -> 46297.371 | D48: =46297.0989623925 + (VLOOKUP($B$1,TimeZones!$A$1:$C$28,2,FALSE))/24 -> 46297.391
A49: 19520/edu540283/8/27grz9gq | B49: Тарбеев Захар Николаевич | C49: =46297.0417554106 + (VLOOKUP($B$1,TimeZones!$A$1:$C$28,2,FALSE))/24 -> 46297.333 | D49: =46297.0993758891 + (VLOOKUP($B$1,TimeZones!$A$1:$C$28,2,FALSE))/24 -> 46297.391
A50: 19520/edu540283/8/35gz43gq | B50: Толкачев Алексей Геннадьевич | C50: =46297.0797580446 + (VLOOKUP($B$1,TimeZones!$A$1:$C$28,2,FALSE))/24 -> 46297.371 | D50: =46297.103195326 + (VLOOKUP($B$1,TimeZones!$A$1:$C$28,2,FALSE))/24 -> 46297.395
A51: 19520/edu540283/8/2qvq82g9 | B51: Трубников Артём Станиславович | C51: =46297.0495736733 + (VLOOKUP($B$1,TimeZones!$A$1:$C$28,2,FALSE))/24 -> 46297.341 | D51: =46297.0698021853 + (VLOOKUP($B$1,TimeZones!$A$1:$C$28,2,FALSE))/24 -> 46297.361
A52: 19520/edu540283/8/2qvq62g9 | B52: Турухин Степан Андреевич | C52: =46297.0419576123 + (VLOOKUP($B$1,TimeZones!$A$1:$C$28,2,FALSE))/24 -> 46297.334 | D52: =46297.0937143842 + (VLOOKUP($B$1,TimeZones!$A$1:$C$28,2,FALSE))/24 -> 46297.385
A53: 19520/edu540283/8/7rg872v5 | B53: Устименко Егор Витальевич | C53: =46297.0418135637 + (VLOOKUP($B$1,TimeZones!$A$1:$C$28,2,FALSE))/24 -> 46297.333 | D53: =46297.0827016256 + (VLOOKUP($B$1,TimeZones!$A$1:$C$28,2,FALSE))/24 -> 46297.374
A54: 19520/edu540283/8/7rg852v5 | B54: Фишер Владислав Юрьевич | C54: =46297.0794324106 + (VLOOKUP($B$1,TimeZones!$A$1:$C$28,2,FALSE))/24 -> 46297.371 | D54: =46297.1284872717 + (VLOOKUP($B$1,TimeZones!$A$1:$C$28,2,FALSE))/24 -> 46297.42
A55: 19520/edu540283/8/35gz63gq | B55: Фёдоров Егор Алексеевич | C55: =46297.080455278 + (VLOOKUP($B$1,TimeZones!$A$1:$C$28,2,FALSE))/24 -> 46297.372 | D55: =46297.11836978 + (VLOOKUP($B$1,TimeZones!$A$1:$C$28,2,FALSE))/24 -> 46297.41
A56: 19520/edu540283/8/27gr5qvq | B56: Халин Артём Денисович | C56: =46297.0795619039 + (VLOOKUP($B$1,TimeZones!$A$1:$C$28,2,FALSE))/24 -> 46297.371 | D56: =46297.1017400859 + (VLOOKUP($B$1,TimeZones!$A$1:$C$28,2,FALSE))/24 -> 46297.393
A57: 19520/edu540283/8/35gz3vq6 | B57: Шатилова Анна Владимировна | C57: =46297.0793002524 + (VLOOKUP($B$1,TimeZones!$A$1:$C$28,2,FALSE))/24 -> 46297.371 | D57: =46297.0997569415 + (VLOOKUP($B$1,TimeZones!$A$1:$C$28,2,FALSE))/24 -> 46297.391
A58: 19520/edu540283/8/67v645vr | B58: Шлыков Михаил Михайлович | C58: =46297.0419009351 + (VLOOKUP($B$1,TimeZones!$A$1:$C$28,2,FALSE))/24 -> 46297.334 | D58: =46297.0946789506 + (VLOOKUP($B$1,TimeZones!$A$1:$C$28,2,FALSE))/24 -> 46297.386
A59: 19520/edu540283/8/r7v3wqvz | B59: Шутов Владимир Владимирович | C59: =46297.0793185874 + (VLOOKUP($B$1,TimeZones!$A$1:$C$28,2,FALSE))/24 -> 46297.371 | D59: =46297.1164046377 + (VLOOKUP($B$1,TimeZones!$A$1:$C$28,2,FALSE))/24 -> 46297.408

Sheet 19521 Физика 9 класс
A1: Часовой пояс | B1: Новосибирск (МСК+4, UTC+7)
A3: Код | B3: ФИО | C3: ="Время начала сессии (" & VLOOKUP($B$1,TimeZones!$A$1:$C$28,3,FALSE) & ")" -> Время начала сессии (Новосибирск) | D3: ="Время конца сессии (" & VLOOKUP($B$1,TimeZones!$A$1:$C$28,3,FALSE) & ")" -> Время конца сессии (Новосибирск)
A4: 19521/edu540283/9/q4678v8w | B4: Бессонов Никита Вячеславович | C4: =46297.0443236515 + (VLOOKUP($B$1,TimeZones!$A$1:$C$28,2,FALSE))/24 -> 46297.336 | D4: =46297.101691067 + (VLOOKUP($B$1,TimeZones!$A$1:$C$28,2,FALSE))/24 -> 46297.393
A5: 19521/edu540283/9/57v9qzvq | B5: Бычков Артём Антонович | C5: =46297.114071786 + (VLOOKUP($B$1,TimeZones!$A$1:$C$28,2,FALSE))/24 -> 46297.406 | D5: =46297.1605846042 + (VLOOKUP($B$1,TimeZones!$A$1:$C$28,2,FALSE))/24 -> 46297.452
A6: 19521/edu540283/9/2q6w88vz | B6: Васильев Георгий Алексеевич | C6: =46297.1136028807 + (VLOOKUP($B$1,TimeZones!$A$1:$C$28,2,FALSE))/24 -> 46297.405 | D6: =46297.1495501451 + (VLOOKUP($B$1,TimeZones!$A$1:$C$28,2,FALSE))/24 -> 46297.441
A7: 19521/edu540283/9/7r68w9vq | B7: Еремеев Даниил Антонович | C7: =46297.0419713127 + (VLOOKUP($B$1,TimeZones!$A$1:$C$28,2,FALSE))/24 -> 46297.334 | D7: =46297.1010760331 + (VLOOKUP($B$1,TimeZones!$A$1:$C$28,2,FALSE))/24 -> 46297.393
A8: 19521/edu540283/9/27vr49vg | B8: Загайнов Захар Романович | C8: =46297.0430183902 + (VLOOKUP($B$1,TimeZones!$A$1:$C$28,2,FALSE))/24 -> 46297.335 | D8: =46297.0690146274 + (VLOOKUP($B$1,TimeZones!$A$1:$C$28,2,FALSE))/24 -> 46297.361
A9: 19521/edu540283/9/7r68496q | B9: Киснер Артур Владимирович | C9: =46297.0427907366 + (VLOOKUP($B$1,TimeZones!$A$1:$C$28,2,FALSE))/24 -> 46297.334 | D9: =46297.0800105578 + (VLOOKUP($B$1,TimeZones!$A$1:$C$28,2,FALSE))/24 -> 46297.372
A10: 19521/edu540283/9/grv5286w | B10: Ковалев Артемий Кириллович | C10: =46297.0427622854 + (VLOOKUP($B$1,TimeZones!$A$1:$C$28,2,FALSE))/24 -> 46297.334 | D10: =46297.0962189603 + (VLOOKUP($B$1,TimeZones!$A$1:$C$28,2,FALSE))/24 -> 46297.388
A11: 19521/edu540283/9/2q6q2vr3 | B11: Кожемякин Давид Константинович | C11: =46297.1136883382 + (VLOOKUP($B$1,TimeZones!$A$1:$C$28,2,FALSE))/24 -> 46297.405 | D11: =46297.1511047844 + (VLOOKUP($B$1,TimeZones!$A$1:$C$28,2,FALSE))/24 -> 46297.443
A12: 19521/edu540283/9/2q6w786z | B12: Кравцов Дмитрий Евгеньевич | C12: =46297.1134022002 + (VLOOKUP($B$1,TimeZones!$A$1:$C$28,2,FALSE))/24 -> 46297.405 | D12: =46297.1758740053 + (VLOOKUP($B$1,TimeZones!$A$1:$C$28,2,FALSE))/24 -> 46297.468
A13: 19521/edu540283/9/r7633q6z | B13: Крайков Степан Александрович | C13: =46297.043755482 + (VLOOKUP($B$1,TimeZones!$A$1:$C$28,2,FALSE))/24 -> 46297.335 | D13: =46297.0960623062 + (VLOOKUP($B$1,TimeZones!$A$1:$C$28,2,FALSE))/24 -> 46297.388
A14: 19521/edu540283/9/35vzw362 | B14: Лебедев Артемий Евгеньевич | C14: =46297.1137438381 + (VLOOKUP($B$1,TimeZones!$A$1:$C$28,2,FALSE))/24 -> 46297.405 | D14: =46297.1762438381 + (VLOOKUP($B$1,TimeZones!$A$1:$C$28,2,FALSE))/24 -> 46297.468
A15: 19521/edu540283/9/w3647v87 | B15: Макарьев Дмитрий Евгеньевич | C15: =46297.113609368 + (VLOOKUP($B$1,TimeZones!$A$1:$C$28,2,FALSE))/24 -> 46297.405 | D15: =46297.1640238409 + (VLOOKUP($B$1,TimeZones!$A$1:$C$28,2,FALSE))/24 -> 46297.456
A16: 19521/edu540283/9/grv5w8vw | B16: Мерзлый Данил Вадимович | C16: =46297.1139514019 + (VLOOKUP($B$1,TimeZones!$A$1:$C$28,2,FALSE))/24 -> 46297.406 | D16: =46297.1542472312 + (VLOOKUP($B$1,TimeZones!$A$1:$C$28,2,FALSE))/24 -> 46297.446
A17: 19521/edu540283/9/2q6ww86z | B17: Миронов Игорь Дмитриевич | C17: =46297.1135438191 + (VLOOKUP($B$1,TimeZones!$A$1:$C$28,2,FALSE))/24 -> 46297.405 | D17: =46297.1510445253 + (VLOOKUP($B$1,TimeZones!$A$1:$C$28,2,FALSE))/24 -> 46297.443
A18: 19521/edu540283/9/2q6w986z | B18: Несветаев Илья Денисович | C18: =46297.1139524224 + (VLOOKUP($B$1,TimeZones!$A$1:$C$28,2,FALSE))/24 -> 46297.406 | D18: =46297.1634397889 + (VLOOKUP($B$1,TimeZones!$A$1:$C$28,2,FALSE))/24 -> 46297.455
A19: 19521/edu540283/9/2q6wzrvz | B19: Пильноватых Маргарита Валентиновна | C19: =46297.1132872024 + (VLOOKUP($B$1,TimeZones!$A$1:$C$28,2,FALSE))/24 -> 46297.405 | D19: =46297.1433894035 + (VLOOKUP($B$1,TimeZones!$A$1:$C$28,2,FALSE))/24 -> 46297.435
A20: 19521/edu540283/9/r7632qvz | B20: Попов Арсений Юрьевич | C20: =46297.0429700887 + (VLOOKUP($B$1,TimeZones!$A$1:$C$28,2,FALSE))/24 -> 46297.335 | D20: =46297.1023957221 + (VLOOKUP($B$1,TimeZones!$A$1:$C$28,2,FALSE))/24 -> 46297.394
A21: 19521/edu540283/9/q467r8v8 | B21: Портнов Олег Алексеевич | C21: =46297.1133035055 + (VLOOKUP($B$1,TimeZones!$A$1:$C$28,2,FALSE))/24 -> 46297.405 | D21: =46297.1495797556 + (VLOOKUP($B$1,TimeZones!$A$1:$C$28,2,FALSE))/24 -> 46297.441
A22: 19521/edu540283/9/r763q6z3 | B22: Посыпкин Александр Павлович | C22: =46297.1140176238 + (VLOOKUP($B$1,TimeZones!$A$1:$C$28,2,FALSE))/24 -> 46297.406 | D22: =46297.1543229212 + (VLOOKUP($B$1,TimeZones!$A$1:$C$28,2,FALSE))/24 -> 46297.446
A23: 19521/edu540283/9/grv5486w | B23: Радченко Арсений Романович | C23: =46297.114156375 + (VLOOKUP($B$1,TimeZones!$A$1:$C$28,2,FALSE))/24 -> 46297.406 | D23: =46297.176656375 + (VLOOKUP($B$1,TimeZones!$A$1:$C$28,2,FALSE))/24 -> 46297.468
A24: 19521/edu540283/9/wrvg7vzg | B24: Ручкин Александр Дмитриевич | C24: =46297.1094325048 + (VLOOKUP($B$1,TimeZones!$A$1:$C$28,2,FALSE))/24 -> 46297.401 | D24: =46297.1510239707 + (VLOOKUP($B$1,TimeZones!$A$1:$C$28,2,FALSE))/24 -> 46297.443
A25: 19521/edu540283/9/q4675768 | B25: Рыбкин Андрей Денисович | C25: =46297.1139037256 + (VLOOKUP($B$1,TimeZones!$A$1:$C$28,2,FALSE))/24 -> 46297.406 | D25: =46297.1684636269 + (VLOOKUP($B$1,TimeZones!$A$1:$C$28,2,FALSE))/24 -> 46297.46
A26: 19521/edu540283/9/2362g5vr | B26: Савоськина София Денисовна | C26: =46297.1140847712 + (VLOOKUP($B$1,TimeZones!$A$1:$C$28,2,FALSE))/24 -> 46297.406 | D26: =46297.1615205022 + (VLOOKUP($B$1,TimeZones!$A$1:$C$28,2,FALSE))/24 -> 46297.453
A27: 19521/edu540283/9/2q6q526r | B27: Смирнов Владислав Евгеньевич | C27: =46297.1149940549 + (VLOOKUP($B$1,TimeZones!$A$1:$C$28,2,FALSE))/24 -> 46297.407 | D27: =46297.1362532041 + (VLOOKUP($B$1,TimeZones!$A$1:$C$28,2,FALSE))/24 -> 46297.428
A28: 19521/edu540283/9/wrvgg7vz | B28: Смоляков Роман Евгеньевич | C28: =46297.1140253089 + (VLOOKUP($B$1,TimeZones!$A$1:$C$28,2,FALSE))/24 -> 46297.406 | D28: =46297.1378534123 + (VLOOKUP($B$1,TimeZones!$A$1:$C$28,2,FALSE))/24 -> 46297.43
A29: 19521/edu540283/9/grv558vw | B29: Тараканов Илья Антонович | C29: =46297.1133722466 + (VLOOKUP($B$1,TimeZones!$A$1:$C$28,2,FALSE))/24 -> 46297.405 | D29: =46297.1521953403 + (VLOOKUP($B$1,TimeZones!$A$1:$C$28,2,FALSE))/24 -> 46297.444
A30: 19521/edu540283/9/35vz7362 | B30: Устинов Егор Иванович | C30: =46297.1132544077 + (VLOOKUP($B$1,TimeZones!$A$1:$C$28,2,FALSE))/24 -> 46297.405 | D30: =46297.1495951143 + (VLOOKUP($B$1,TimeZones!$A$1:$C$28,2,FALSE))/24 -> 46297.441
A31: 19521/edu540283/9/q4677868 | B31: Фогель Никита Максимович | C31: =46297.1136518398 + (VLOOKUP($B$1,TimeZones!$A$1:$C$28,2,FALSE))/24 -> 46297.405 | D31: =46297.1576449407 + (VLOOKUP($B$1,TimeZones!$A$1:$C$28,2,FALSE))/24 -> 46297.449
A32: 19521/edu540283/9/r763wq6z | B32: Хамидулина Альбина Раилевна | C32: =46297.1141930012 + (VLOOKUP($B$1,TimeZones!$A$1:$C$28,2,FALSE))/24 -> 46297.406 | D32: =46297.1568979843 + (VLOOKUP($B$1,TimeZones!$A$1:$C$28,2,FALSE))/24 -> 46297.449
A33: 19521/edu540283/9/2q6w48vz | B33: Шеин Андрей Павлович | C33: =46297.1138316072 + (VLOOKUP($B$1,TimeZones!$A$1:$C$28,2,FALSE))/24 -> 46297.405 | D33: =46297.1702391088 + (VLOOKUP($B$1,TimeZones!$A$1:$C$28,2,FALSE))/24 -> 46297.462
A34: 19521/edu540283/9/r763qq6z | B34: Юматов Андрей Алексеевич | C34: =46297.1131826932 + (VLOOKUP($B$1,TimeZones!$A$1:$C$28,2,FALSE))/24 -> 46297.405 | D34: =46297.1572361279 + (VLOOKUP($B$1,TimeZones!$A$1:$C$28,2,FALSE))/24 -> 46297.449
A35: 19521/edu540283/9/57v9zz6q | B35: Юрочкин Дмитрий Сергеевич | C35: =46297.1137462926 + (VLOOKUP($B$1,TimeZones!$A$1:$C$28,2,FALSE))/24 -> 46297.405 | D35: =46297.1490255958 + (VLOOKUP($B$1,TimeZones!$A$1:$C$28,2,FALSE))/24 -> 46297.441
A36: 19521/edu540283/9/2q6qw26r | B36: Ялунин Михаил Владимирович | C36: =46297.1135754886 + (VLOOKUP($B$1,TimeZones!$A$1:$C$28,2,FALSE))/24 -> 46297.405 | D36: =46297.1444971078 + (VLOOKUP($B$1,TimeZones!$A$1:$C$28,2,FALSE))/24 -> 46297.436
A37: 19521/edu540283/9/23625vr9 | B37: Ярмухаметов Далимир Радмирович | C37: =46297.1132951173 + (VLOOKUP($B$1,TimeZones!$A$1:$C$28,2,FALSE))/24 -> 46297.405 | D37: =46297.1757951173 + (VLOOKUP($B$1,TimeZones!$A$1:$C$28,2,FALSE))/24 -> 46297.467

Sheet 19522 Физика 10 класс
A1: Часовой пояс | B1: Новосибирск (МСК+4, UTC+7)
A3: Код | B3: ФИО | C3: ="Время начала сессии (" & VLOOKUP($B$1,TimeZones!$A$1:$C$28,3,FALSE) & ")" -> Время начала сессии (Новосибирск) | D3: ="Время конца сессии (" & VLOOKUP($B$1,TimeZones!$A$1:$C$28,3,FALSE) & ")" -> Время конца сессии (Новосибирск)
A4: 19522/edu540283/10/q4g776g9 | B4: Баранов Матвей Вячеславович | C4: =46297.0420830084 + (VLOOKUP($B$1,TimeZones!$A$1:$C$28,2,FALSE))/24 -> 46297.334 | D4: =46297.1006615784 + (VLOOKUP($B$1,TimeZones!$A$1:$C$28,2,FALSE))/24 -> 46297.392
A5: 19522/edu540283/10/5789vzg9 | B5: Бахман Андрей Александрович | C5: =46297.0424362832 + (VLOOKUP($B$1,TimeZones!$A$1:$C$28,2,FALSE))/24 -> 46297.334 | D5: =46297.0702721815 + (VLOOKUP($B$1,TimeZones!$A$1:$C$28,2,FALSE))/24 -> 46297.362
A6: 19522/edu540283/10/67g69582 | B6: Вишняков Максим Сергеевич | C6: =46297.1626161326 + (VLOOKUP($B$1,TimeZones!$A$1:$C$28,2,FALSE))/24 -> 46297.454 | D6: =46297.1916297504 + (VLOOKUP($B$1,TimeZones!$A$1:$C$28,2,FALSE))/24 -> 46297.483
A7: 19522/edu540283/10/7q8wr7gw | B7: Галевич Руслан Романович | C7: =46297.1623334075 + (VLOOKUP($B$1,TimeZones!$A$1:$C$28,2,FALSE))/24 -> 46297.454 | D7: =46297.2248334075 + (VLOOKUP($B$1,TimeZones!$A$1:$C$28,2,FALSE))/24 -> 46297.517
A8: 19522/edu540283/10/w3g23587 | B8: Гарагуля Лев Викторович | C8: =46297.1156980866 + (VLOOKUP($B$1,TimeZones!$A$1:$C$28,2,FALSE))/24 -> 46297.407 | D8: =46297.1611688168 + (VLOOKUP($B$1,TimeZones!$A$1:$C$28,2,FALSE))/24 -> 46297.453
A9: 19522/edu540283/10/67g6w582 | B9: Голопятин Егор Иванович | C9: =46297.1153299198 + (VLOOKUP($B$1,TimeZones!$A$1:$C$28,2,FALSE))/24 -> 46297.407 | D9: =46297.1503707822 + (VLOOKUP($B$1,TimeZones!$A$1:$C$28,2,FALSE))/24 -> 46297.442
A10: 19522/edu540283/10/7q8w27gw | B10: Гусейнов Рафаэль Анар оглы | C10: =46297.1174368998 + (VLOOKUP($B$1,TimeZones!$A$1:$C$28,2,FALSE))/24 -> 46297.409 | D10: =46297.1579500386 + (VLOOKUP($B$1,TimeZones!$A$1:$C$28,2,FALSE))/24 -> 46297.45
A11: 19522/edu540283/10/r7g3zr86 | B11: Дашковецкий Илья Сергеевич | C11: =46297.041950669 + (VLOOKUP($B$1,TimeZones!$A$1:$C$28,2,FALSE))/24 -> 46297.334 | D11: =46297.0707393568 + (VLOOKUP($B$1,TimeZones!$A$1:$C$28,2,FALSE))/24 -> 46297.362
A12: 19522/edu540283/10/r7g33qg6 | B12: Дениженко Ангелина Валерьевна | C12: =46297.1153054237 + (VLOOKUP($B$1,TimeZones!$A$1:$C$28,2,FALSE))/24 -> 46297.407 | D12: =46297.1464439705 + (VLOOKUP($B$1,TimeZones!$A$1:$C$28,2,FALSE))/24 -> 46297.438
A13: 19522/edu540283/10/7q8wv7gw | B13: Жальских Климентий Антонович | C13: =46297.1156899648 + (VLOOKUP($B$1,TimeZones!$A$1:$C$28,2,FALSE))/24 -> 46297.407 | D13: =46297.1781899648 + (VLOOKUP($B$1,TimeZones!$A$1:$C$28,2,FALSE))/24 -> 46297.47
A14: 19522/edu540283/10/r7g3qqg6 | B14: Залевский Даниил Александрович | C14: =46297.1159479188 + (VLOOKUP($B$1,TimeZones!$A$1:$C$28,2,FALSE))/24 -> 46297.408 | D14: =46297.1621768972 + (VLOOKUP($B$1,TimeZones!$A$1:$C$28,2,FALSE))/24 -> 46297.454
A15: 19522/edu540283/10/w3g29587 | B15: Иванов Артём Андреевич | C15: =46297.1153807277 + (VLOOKUP($B$1,TimeZones!$A$1:$C$28,2,FALSE))/24 -> 46297.407 | D15: =46297.1778807277 + (VLOOKUP($B$1,TimeZones!$A$1:$C$28,2,FALSE))/24 -> 46297.47
A16: 19522/edu540283/10/w3g43787 | B16: Иванютенко Александр Евгеньевич | C16: =46297.0427786804 + (VLOOKUP($B$1,TimeZones!$A$1:$C$28,2,FALSE))/24 -> 46297.334 | D16: =46297.1049823484 + (VLOOKUP($B$1,TimeZones!$A$1:$C$28,2,FALSE))/24 -> 46297.397
A17: 19522/edu540283/10/r98v97gw | B17: Калинин Юрий Дмитриевич | C17: =46297.1154852641 + (VLOOKUP($B$1,TimeZones!$A$1:$C$28,2,FALSE))/24 -> 46297.407 | D17: =46297.1667949081 + (VLOOKUP($B$1,TimeZones!$A$1:$C$28,2,FALSE))/24 -> 46297.458
A18: 19522/edu540283/10/w3g4q787 | B18: Караев Амир Эльшадович | C18: =46297.1625010526 + (VLOOKUP($B$1,TimeZones!$A$1:$C$28,2,FALSE))/24 -> 46297.454 | D18: =46297.2184693241 + (VLOOKUP($B$1,TimeZones!$A$1:$C$28,2,FALSE))/24 -> 46297.51
A19: 19522/edu540283/10/wr8546g5 | B19: Каргин Тимофей Дмитриевич | C19: =46297.1174131851 + (VLOOKUP($B$1,TimeZones!$A$1:$C$28,2,FALSE))/24 -> 46297.409 | D19: =46297.1799131851 + (VLOOKUP($B$1,TimeZones!$A$1:$C$28,2,FALSE))/24 -> 46297.472
A20: 19522/edu540283/10/q4g7q6g9 | B20: Козьминых Матвей Константинович | C20: =46297.1158256217 + (VLOOKUP($B$1,TimeZones!$A$1:$C$28,2,FALSE))/24 -> 46297.407 | D20: =46297.1617171509 + (VLOOKUP($B$1,TimeZones!$A$1:$C$28,2,FALSE))/24 -> 46297.453
A21: 19522/edu540283/10/r98vr78w | B21: Костричко Елизавета Игоревна | C21: =46297.1155481667 + (VLOOKUP($B$1,TimeZones!$A$1:$C$28,2,FALSE))/24 -> 46297.407 | D21: =46297.1625167253 + (VLOOKUP($B$1,TimeZones!$A$1:$C$28,2,FALSE))/24 -> 46297.454
A22: 19522/edu540283/10/w3g4787z | B22: Крюков Данила Дмитриевич | C22: =46297.0462483534 + (VLOOKUP($B$1,TimeZones!$A$1:$C$28,2,FALSE))/24 -> 46297.338 | D22: =46297.1051314902 + (VLOOKUP($B$1,TimeZones!$A$1:$C$28,2,FALSE))/24 -> 46297.397
A23: 19522/edu540283/10/r7g32q86 | B23: Кузнеделов Александр Игоревич | C23: =46297.1153724953 + (VLOOKUP($B$1,TimeZones!$A$1:$C$28,2,FALSE))/24 -> 46297.407 | D23: =46297.1674929079 + (VLOOKUP($B$1,TimeZones!$A$1:$C$28,2,FALSE))/24 -> 46297.459
A24: 19522/edu540283/10/r7g3wqg6 | B24: Курдюкова Аврора Алексеевна | C24: =46297.1160031005 + (VLOOKUP($B$1,TimeZones!$A$1:$C$28,2,FALSE))/24 -> 46297.408 | D24: =46297.1608563689 + (VLOOKUP($B$1,TimeZones!$A$1:$C$28,2,FALSE))/24 -> 46297.453
A25: 19522/edu540283/10/358z73gq | B25: Мажельский Артём Олегович | C25: =46297.116022662 + (VLOOKUP($B$1,TimeZones!$A$1:$C$28,2,FALSE))/24 -> 46297.408 | D25: =46297.1498883846 + (VLOOKUP($B$1,TimeZones!$A$1:$C$28,2,FALSE))/24 -> 46297.442
A26: 19522/edu540283/10/w3g27587 | B26: Маяцкая Ксения Константиновна | C26: =46297.1153332304 + (VLOOKUP($B$1,TimeZones!$A$1:$C$28,2,FALSE))/24 -> 46297.407 | D26: =46297.1490375561 + (VLOOKUP($B$1,TimeZones!$A$1:$C$28,2,FALSE))/24 -> 46297.441
A27: 19522/edu540283/10/w3g4r7g7 | B27: Мирзажонов Абдулазиз Давронбек угли | C27: =46297.1158084489 + (VLOOKUP($B$1,TimeZones!$A$1:$C$28,2,FALSE))/24 -> 46297.407 | D27: =46297.147352211 + (VLOOKUP($B$1,TimeZones!$A$1:$C$28,2,FALSE))/24 -> 46297.439
A28: 19522/edu540283/10/w3g4w787 | B28: Пилипенко Елизавета Андреевна | C28: =46297.1153425384 + (VLOOKUP($B$1,TimeZones!$A$1:$C$28,2,FALSE))/24 -> 46297.407 | D28: =46297.1653879323 + (VLOOKUP($B$1,TimeZones!$A$1:$C$28,2,FALSE))/24 -> 46297.457
A29: 19522/edu540283/10/278rv98w | B29: Полякова Олеся Сергеевна | C29: =46297.1158908958 + (VLOOKUP($B$1,TimeZones!$A$1:$C$28,2,FALSE))/24 -> 46297.408 | D29: =46297.1650096043 + (VLOOKUP($B$1,TimeZones!$A$1:$C$28,2,FALSE))/24 -> 46297.457
A30: 19522/edu540283/10/358z3gqw | B30: Пурышев Тимур Юрьевич | C30: =46297.1254891564 + (VLOOKUP($B$1,TimeZones!$A$1:$C$28,2,FALSE))/24 -> 46297.417 | D30: =46297.1765832186 + (VLOOKUP($B$1,TimeZones!$A$1:$C$28,2,FALSE))/24 -> 46297.468
A31: 19522/edu540283/10/7q8w78wz | B31: Радионов Андрей Витальевич | C31: =46297.1156544587 + (VLOOKUP($B$1,TimeZones!$A$1:$C$28,2,FALSE))/24 -> 46297.407 | D31: =46297.1693391064 + (VLOOKUP($B$1,TimeZones!$A$1:$C$28,2,FALSE))/24 -> 46297.461
A32: 19522/edu540283/10/358z93gq | B32: Рябов Роман Викторович | C32: =46297.1627276872 + (VLOOKUP($B$1,TimeZones!$A$1:$C$28,2,FALSE))/24 -> 46297.454 | D32: =46297.2243839458 + (VLOOKUP($B$1,TimeZones!$A$1:$C$28,2,FALSE))/24 -> 46297.516
A33: 19522/edu540283/10/2qgq32g9 | B33: Сажаев Тимофей Алексеевич | C33: =46297.0421681199 + (VLOOKUP($B$1,TimeZones!$A$1:$C$28,2,FALSE))/24 -> 46297.334 | D33: =46297.0713231537 + (VLOOKUP($B$1,TimeZones!$A$1:$C$28,2,FALSE))/24 -> 46297.363
A34: 19522/edu540283/10/278rz98w | B34: Сакович Семён Михайлович | C34: =46297.1630667133 + (VLOOKUP($B$1,TimeZones!$A$1:$C$28,2,FALSE))/24 -> 46297.455 | D34: =46297.1907362805 + (VLOOKUP($B$1,TimeZones!$A$1:$C$28,2,FALSE))/24 -> 46297.482
A35: 19522/edu540283/10/278r99gw | B35: Скрипаль Ульяна Игоревна | C35: =46297.115398586 + (VLOOKUP($B$1,TimeZones!$A$1:$C$28,2,FALSE))/24 -> 46297.407 | D35: =46297.1571841223 + (VLOOKUP($B$1,TimeZones!$A$1:$C$28,2,FALSE))/24 -> 46297.449
A36: 19522/edu540283/10/278rw9gw | B36: Снегирёв Дмитрий Алексеевич | C36: =46297.1153258492 + (VLOOKUP($B$1,TimeZones!$A$1:$C$28,2,FALSE))/24 -> 46297.407 | D36: =46297.1752647374 + (VLOOKUP($B$1,TimeZones!$A$1:$C$28,2,FALSE))/24 -> 46297.467
A37: 19522/edu540283/10/278rq9gw | B37: Турнаева Полина Леонидовна | C37: =46297.1155620016 + (VLOOKUP($B$1,TimeZones!$A$1:$C$28,2,FALSE))/24 -> 46297.407 | D37: =46297.1627487619 + (VLOOKUP($B$1,TimeZones!$A$1:$C$28,2,FALSE))/24 -> 46297.454
A38: 19522/edu540283/10/278r5qgw | B38: Усов Арсений Сергеевич | C38: =46297.1153512392 + (VLOOKUP($B$1,TimeZones!$A$1:$C$28,2,FALSE))/24 -> 46297.407 | D38: =46297.1558485221 + (VLOOKUP($B$1,TimeZones!$A$1:$C$28,2,FALSE))/24 -> 46297.448
A39: 19522/edu540283/10/wr856g54 | B39: Устинова Полина Ивановна | C39: =46297.1153436509 + (VLOOKUP($B$1,TimeZones!$A$1:$C$28,2,FALSE))/24 -> 46297.407 | D39: =46297.157498688 + (VLOOKUP($B$1,TimeZones!$A$1:$C$28,2,FALSE))/24 -> 46297.449
A40: 19522/edu540283/10/2qgq52g9 | B40: Филиппова Мария Дмитриевна | C40: =46297.1154199915 + (VLOOKUP($B$1,TimeZones!$A$1:$C$28,2,FALSE))/24 -> 46297.407 | D40: =46297.1464084113 + (VLOOKUP($B$1,TimeZones!$A$1:$C$28,2,FALSE))/24 -> 46297.438
A41: 19522/edu540283/10/358z33gq | B41: Фомин Алексей Павлович | C41: =46297.0424736586 + (VLOOKUP($B$1,TimeZones!$A$1:$C$28,2,FALSE))/24 -> 46297.334 | D41: =46297.1041831018 + (VLOOKUP($B$1,TimeZones!$A$1:$C$28,2,FALSE))/24 -> 46297.396
A42: 19522/edu540283/10/2qgqw2g9 | B42: Чернодаров Всеволод Алексеевич | C42: =46297.1156808827 + (VLOOKUP($B$1,TimeZones!$A$1:$C$28,2,FALSE))/24 -> 46297.407 | D42: =46297.163985366 + (VLOOKUP($B$1,TimeZones!$A$1:$C$28,2,FALSE))/24 -> 46297.456
A43: 19522/edu540283/10/358z52gq | B43: Чирманов Олег Николаевич | C43: =46297.0430764656 + (VLOOKUP($B$1,TimeZones!$A$1:$C$28,2,FALSE))/24 -> 46297.335 | D43: =46297.104259629 + (VLOOKUP($B$1,TimeZones!$A$1:$C$28,2,FALSE))/24 -> 46297.396
A44: 19522/edu540283/10/wr85q685 | B44: Шалагин Иван Михайлович | C44: =46297.1153298896 + (VLOOKUP($B$1,TimeZones!$A$1:$C$28,2,FALSE))/24 -> 46297.407 | D44: =46297.1535200275 + (VLOOKUP($B$1,TimeZones!$A$1:$C$28,2,FALSE))/24 -> 46297.445
A45: 19522/edu540283/10/2qgqv289 | B45: Шевченко Роман Николаевич | C45: =46297.0456582545 + (VLOOKUP($B$1,TimeZones!$A$1:$C$28,2,FALSE))/24 -> 46297.337 | D45: =46297.1016886306 + (VLOOKUP($B$1,TimeZones!$A$1:$C$28,2,FALSE))/24 -> 46297.393

Sheet 19523 Физика 11 класс
A1: Часовой пояс | B1: Новосибирск (МСК+4, UTC+7)
A3: Код | B3: ФИО | C3: ="Время начала сессии (" & VLOOKUP($B$1,TimeZones!$A$1:$C$28,3,FALSE) & ")" -> Время начала сессии (Новосибирск) | D3: ="Время конца сессии (" & VLOOKUP($B$1,TimeZones!$A$1:$C$28,3,FALSE) & ")" -> Время конца сессии (Новосибирск)
A4: 19523/edu540283/11/35vz73wq | B4: Аксенов Мирон Вячеславович | C4: =46297.1980111486 + (VLOOKUP($B$1,TimeZones!$A$1:$C$28,2,FALSE))/24 -> 46297.49 | D4: =46297.2188627087 + (VLOOKUP($B$1,TimeZones!$A$1:$C$28,2,FALSE))/24 -> 46297.511
A5: 19523/edu540283/11/r7w34qv2 | B5: Амельченко Диана Олеговна | C5: =46297.193613185 + (VLOOKUP($B$1,TimeZones!$A$1:$C$28,2,FALSE))/24 -> 46297.485 | D5: =46297.2307536544 + (VLOOKUP($B$1,TimeZones!$A$1:$C$28,2,FALSE))/24 -> 46297.522
A6: 19523/edu540283/11/57v93zv4 | B6: Антонов Олег Иванович | C6: =46297.2021962356 + (VLOOKUP($B$1,TimeZones!$A$1:$C$28,2,FALSE))/24 -> 46297.494 | D6: =46297.2207909258 + (VLOOKUP($B$1,TimeZones!$A$1:$C$28,2,FALSE))/24 -> 46297.512
A7: 19523/edu540283/11/35vz93wq | B7: Барабашева Наталья Александровна | C7: =46297.0454136219 + (VLOOKUP($B$1,TimeZones!$A$1:$C$28,2,FALSE))/24 -> 46297.337 | D7: =46297.1033405065 + (VLOOKUP($B$1,TimeZones!$A$1:$C$28,2,FALSE))/24 -> 46297.395
A8: 19523/edu540283/11/8rvg47w7 | B8: Бушмакина Алёна Денисовна | C8: =46297.1933735467 + (VLOOKUP($B$1,TimeZones!$A$1:$C$28,2,FALSE))/24 -> 46297.485 | D8: =46297.2224884891 + (VLOOKUP($B$1,TimeZones!$A$1:$C$28,2,FALSE))/24 -> 46297.514
A9: 19523/edu540283/11/2qwq32w9 | B9: Ванеев Матвей Антонович | C9: =46297.1937240445 + (VLOOKUP($B$1,TimeZones!$A$1:$C$28,2,FALSE))/24 -> 46297.485 | D9: =46297.2197446721 + (VLOOKUP($B$1,TimeZones!$A$1:$C$28,2,FALSE))/24 -> 46297.511
A10: 19523/edu540283/11/57v9zw42 | B10: Герасимов Яромир Константинович | C10: =46297.1940214785 + (VLOOKUP($B$1,TimeZones!$A$1:$C$28,2,FALSE))/24 -> 46297.486 | D10: =46297.205348992 + (VLOOKUP($B$1,TimeZones!$A$1:$C$28,2,FALSE))/24 -> 46297.497
A11: 19523/edu540283/11/2qwq52w9 | B11: Грачев Дмитрий Георгиевич | C11: =46297.0455937338 + (VLOOKUP($B$1,TimeZones!$A$1:$C$28,2,FALSE))/24 -> 46297.337 | D11: =46297.099314243 + (VLOOKUP($B$1,TimeZones!$A$1:$C$28,2,FALSE))/24 -> 46297.391
A12: 19523/edu540283/11/27vrz9vz | B12: Григорьев Александр Эдуардович | C12: =46297.0456771453 + (VLOOKUP($B$1,TimeZones!$A$1:$C$28,2,FALSE))/24 -> 46297.337 | D12: =46297.1014877439 + (VLOOKUP($B$1,TimeZones!$A$1:$C$28,2,FALSE))/24 -> 46297.393
A13: 19523/edu540283/11/grv556v5 | B13: Грязнов Владислав Андреевич | C13: =46297.1950707943 + (VLOOKUP($B$1,TimeZones!$A$1:$C$28,2,FALSE))/24 -> 46297.487 | D13: =46297.2210577101 + (VLOOKUP($B$1,TimeZones!$A$1:$C$28,2,FALSE))/24 -> 46297.513
A14: 19523/edu540283/11/8rvg7v7z | B14: Домошонкин Владислав Сергеевич | C14: =46297.0453216736 + (VLOOKUP($B$1,TimeZones!$A$1:$C$28,2,FALSE))/24 -> 46297.337 | D14: =46297.0987680541 + (VLOOKUP($B$1,TimeZones!$A$1:$C$28,2,FALSE))/24 -> 46297.39
A15: 19523/edu540283/11/grv566w5 | B15: Дурасова Ева Вячеславовна | C15: =46297.1936275769 + (VLOOKUP($B$1,TimeZones!$A$1:$C$28,2,FALSE))/24 -> 46297.485 | D15: =46297.2347513476 + (VLOOKUP($B$1,TimeZones!$A$1:$C$28,2,FALSE))/24 -> 46297.526
A16: 19523/edu540283/11/7rv8r2v5 | B16: Евдокимова Алиса Петровна | C16: =46297.1937874386 + (VLOOKUP($B$1,TimeZones!$A$1:$C$28,2,FALSE))/24 -> 46297.485 | D16: =46297.2353011161 + (VLOOKUP($B$1,TimeZones!$A$1:$C$28,2,FALSE))/24 -> 46297.527
A17: 19523/edu540283/11/27vr99wz | B17: Жулин Артём Вячеславович | C17: =46297.1934857677 + (VLOOKUP($B$1,TimeZones!$A$1:$C$28,2,FALSE))/24 -> 46297.485 | D17: =46297.2307199397 + (VLOOKUP($B$1,TimeZones!$A$1:$C$28,2,FALSE))/24 -> 46297.522
A18: 19523/edu540283/11/8rvg77v7 | B18: Зайко Никита Денисович | C18: =46297.1943615969 + (VLOOKUP($B$1,TimeZones!$A$1:$C$28,2,FALSE))/24 -> 46297.486 | D18: =46297.2321611217 + (VLOOKUP($B$1,TimeZones!$A$1:$C$28,2,FALSE))/24 -> 46297.524
A19: 19523/edu540283/11/q4w796w3 | B19: Ильин Матвей Фёдорович | C19: =46297.0454924574 + (VLOOKUP($B$1,TimeZones!$A$1:$C$28,2,FALSE))/24 -> 46297.337 | D19: =46297.1062489375 + (VLOOKUP($B$1,TimeZones!$A$1:$C$28,2,FALSE))/24 -> 46297.398
A20: 19523/edu540283/11/7rv882v5 | B20: Караткевич Александр Аркадьевич | C20: =46297.0423611263 + (VLOOKUP($B$1,TimeZones!$A$1:$C$28,2,FALSE))/24 -> 46297.334 | D20: =46297.0946190544 + (VLOOKUP($B$1,TimeZones!$A$1:$C$28,2,FALSE))/24 -> 46297.386
A21: 19523/edu540283/11/8rvg67w7 | B21: Кожемяко Полина Константиновна | C21: =46297.1971812747 + (VLOOKUP($B$1,TimeZones!$A$1:$C$28,2,FALSE))/24 -> 46297.489 | D21: =46297.2276255971 + (VLOOKUP($B$1,TimeZones!$A$1:$C$28,2,FALSE))/24 -> 46297.519
A22: 19523/edu540283/11/67w695v8 | B22: Кононенко Анна Сергеевна | C22: =46297.1932500797 + (VLOOKUP($B$1,TimeZones!$A$1:$C$28,2,FALSE))/24 -> 46297.485 | D22: =46297.2232065432 + (VLOOKUP($B$1,TimeZones!$A$1:$C$28,2,FALSE))/24 -> 46297.515
A23: 19523/edu540283/11/r7w38qv2 | B23: Лебедев Александр Дмитриевич | C23: =46297.1934139001 + (VLOOKUP($B$1,TimeZones!$A$1:$C$28,2,FALSE))/24 -> 46297.485 | D23: =46297.2195611918 + (VLOOKUP($B$1,TimeZones!$A$1:$C$28,2,FALSE))/24 -> 46297.511
A24: 19523/edu540283/11/q4w76v36 | B24: Лехнович Илья Евгеньевич | C24: =46297.1935390383 + (VLOOKUP($B$1,TimeZones!$A$1:$C$28,2,FALSE))/24 -> 46297.485 | D24: =46297.2250759546 + (VLOOKUP($B$1,TimeZones!$A$1:$C$28,2,FALSE))/24 -> 46297.517
A25: 19523/edu540283/11/grv5r6w5 | B25: Литвинов Павел Евгеньевич | C25: =46297.1927593049 + (VLOOKUP($B$1,TimeZones!$A$1:$C$28,2,FALSE))/24 -> 46297.484 | D25: =46297.228878925 + (VLOOKUP($B$1,TimeZones!$A$1:$C$28,2,FALSE))/24 -> 46297.521
A26: 19523/edu540283/11/7rv822v5 | B26: Набиев Роман Дмитриевич | C26: =46297.1940252484 + (VLOOKUP($B$1,TimeZones!$A$1:$C$28,2,FALSE))/24 -> 46297.486 | D26: =46297.2293236379 + (VLOOKUP($B$1,TimeZones!$A$1:$C$28,2,FALSE))/24 -> 46297.521
A27: 19523/edu540283/11/83w47v2r | B27: Незнанова Виктория Вахтанговна | C27: =46297.1935887358 + (VLOOKUP($B$1,TimeZones!$A$1:$C$28,2,FALSE))/24 -> 46297.485 | D27: =46297.2308180609 + (VLOOKUP($B$1,TimeZones!$A$1:$C$28,2,FALSE))/24 -> 46297.522
A28: 19523/edu540283/11/27vr49vz | B28: Немцев Александр Данилович | C28: =46297.1923755767 + (VLOOKUP($B$1,TimeZones!$A$1:$C$28,2,FALSE))/24 -> 46297.484 | D28: =46297.2194293307 + (VLOOKUP($B$1,TimeZones!$A$1:$C$28,2,FALSE))/24 -> 46297.511
A29: 19523/edu540283/11/67w6z5w8 | B29: Никитин Георгий Андреевич | C29: =46297.1939879337 + (VLOOKUP($B$1,TimeZones!$A$1:$C$28,2,FALSE))/24 -> 46297.486 | D29: =46297.2226495711 + (VLOOKUP($B$1,TimeZones!$A$1:$C$28,2,FALSE))/24 -> 46297.514
A30: 19523/edu540283/11/83w4g7v2 | B30: Овчиников Артём Андреевич | C30: =46297.1941498557 + (VLOOKUP($B$1,TimeZones!$A$1:$C$28,2,FALSE))/24 -> 46297.486 | D30: =46297.226197109 + (VLOOKUP($B$1,TimeZones!$A$1:$C$28,2,FALSE))/24 -> 46297.518
A31: 19523/edu540283/11/35vz3wq6 | B31: Панов Евгений Алексеевич | C31: =46297.0635292357 + (VLOOKUP($B$1,TimeZones!$A$1:$C$28,2,FALSE))/24 -> 46297.355 | D31: =46297.100144538 + (VLOOKUP($B$1,TimeZones!$A$1:$C$28,2,FALSE))/24 -> 46297.392
A32: 19523/edu540283/11/23w2z5w6 | B32: Рудых Никита Сергеевич | C32: =46297.194600198 + (VLOOKUP($B$1,TimeZones!$A$1:$C$28,2,FALSE))/24 -> 46297.486 | D32: =46297.2212023683 + (VLOOKUP($B$1,TimeZones!$A$1:$C$28,2,FALSE))/24 -> 46297.513
A33: 19523/edu540283/11/23w25v65 | B33: Рыболовлев Захар Николаевич | C33: =46297.0454322939 + (VLOOKUP($B$1,TimeZones!$A$1:$C$28,2,FALSE))/24 -> 46297.337 | D33: =46297.1033107064 + (VLOOKUP($B$1,TimeZones!$A$1:$C$28,2,FALSE))/24 -> 46297.395
A34: 19523/edu540283/11/2qwqq2w9 | B34: Савиных Евгений Иванович | C34: =46297.1940827782 + (VLOOKUP($B$1,TimeZones!$A$1:$C$28,2,FALSE))/24 -> 46297.486 | D34: =46297.2327945676 + (VLOOKUP($B$1,TimeZones!$A$1:$C$28,2,FALSE))/24 -> 46297.524
A35: 19523/edu540283/11/67w685w8 | B35: Сёмка Виталина Дмитриевна | C35: =46297.1938491745 + (VLOOKUP($B$1,TimeZones!$A$1:$C$28,2,FALSE))/24 -> 46297.486 | D35: =46297.2414503797 + (VLOOKUP($B$1,TimeZones!$A$1:$C$28,2,FALSE))/24 -> 46297.533
A36: 19523/edu540283/11/q4w746v3 | B36: Федоров Виктор Вячеславович | C36: =46297.1939675897 + (VLOOKUP($B$1,TimeZones!$A$1:$C$28,2,FALSE))/24 -> 46297.486 | D36: =46297.2314268318 + (VLOOKUP($B$1,TimeZones!$A$1:$C$28,2,FALSE))/24 -> 46297.523
A37: 19523/edu540283/11/27vr9wz5 | B37: Фокин Кирилл Артемович | C37: =46297.1946789084 + (VLOOKUP($B$1,TimeZones!$A$1:$C$28,2,FALSE))/24 -> 46297.486 | D37: =46297.2232616941 + (VLOOKUP($B$1,TimeZones!$A$1:$C$28,2,FALSE))/24 -> 46297.515
A38: 19523/edu540283/11/grv56w57 | B38: Яковенко Ксения Александровна | C38: =46297.1930015255 + (VLOOKUP($B$1,TimeZones!$A$1:$C$28,2,FALSE))/24 -> 46297.485 | D38: =46297.231133245 + (VLOOKUP($B$1,TimeZones!$A$1:$C$28,2,FALSE))/24 -> 46297.523

Sheet 19706 Химия 7 класс
A1: Список участников появится после окончания олимпиады, если они будут

Sheet 19707 Химия 8 класс
A1: Список участников появится после окончания олимпиады, если они будут

Sheet 19708 Химия 9 класс
A1: Список участников появится после окончания олимпиады, если они будут

Sheet 19709 Химия 10 класс
A1: Список участников появится после окончания олимпиады, если они будут

Sheet 19710 Химия 11 класс
A1: Список участников появится после окончания олимпиады, если они будут

Sheet TimeZones
A1: UTC (МСК-3, UTC) | B1: 0 | C1: UTC
A2: Калининград (МСК-1, UTC+2) | B2: 2 | C2: Калининград
A3: Москва (МСК, UTC+3) | B3: 3 | C3: Москва
A4: Симферополь (МСК, UTC+3) | B4: 3 | C4: Симферополь
A5: Киров (МСК, UTC+3) | B5: 3 | C5: Киров
A6: Волгоград (МСК, UTC+3) | B6: 3 | C6: Волгоград
A7: Астрахань (МСК+1, UTC+4) | B7: 4 | C7: Астрахань
A8: Саратов (МСК+1, UTC+4) | B8: 4 | C8: Саратов
A9: Ульяновск (МСК+1, UTC+4) | B9: 4 | C9: Ульяновск
A10: Самара (МСК+1, UTC+4) | B10: 4 | C10: Самара
A11: Екатеринбург (МСК+2, UTC+5) | B11: 5 | C11: Екатеринбург
A12: Омск (МСК+3, UTC+6) | B12: 6 | C12: Омск
... A28: Анадырь (МСК+9, UTC+12) | B28: 12 | C28: Анадырь
